Back to Multiple platform build/check report for BioC 3.13 experimental data
[A]BCDEFGHIJKLMNOPQRSTUVWXYZ

BUILD report for ALLMLL on malbec2

This page was generated on 2021-01-21 16:01:01 -0500 (Thu, 21 Jan 2021).

TO THE DEVELOPERS/MAINTAINERS OF THE ALLMLL PACKAGE: Please make sure to use the following settings in order to reproduce any error or warning you see on this page.
Package 12/386HostnameOS / ArchINSTALLBUILDCHECK
ALLMLL 1.31.0
B. M. Bolstad
Snapshot Date: 2021-01-21 09:00:14 -0500 (Thu, 21 Jan 2021)
URL: https://git.bioconductor.org/packages/ALLMLL
Branch: master
Last Commit: 44945ac
Last Changed Date: 2020-10-27 09:44:43 -0500 (Tue, 27 Oct 2020)
malbec2 Linux (Ubuntu 20.04.1 LTS) / x86_64  OK [ OK ] OK UNNEEDED, same version exists in internal repository
riesling1 Windows Server 2019 Standard / x64  OK  OK  OK 

Summary

Package: ALLMLL
Version: 1.31.0
Command: /home/biocbuild/bbs-3.13-bioc/R/bin/R CMD build --keep-empty-dirs --no-resave-data ALLMLL
StartedAt: 2021-01-21 10:17:56 -0500 (Thu, 21 Jan 2021)
EndedAt: 2021-01-21 10:18:04 -0500 (Thu, 21 Jan 2021)
EllapsedTime: 7.9 seconds
RetCode: 0
Status:  OK 
PackageFile: ALLMLL_1.31.0.tar.gz
PackageFileSize: 25.62 MiB

Command output

##############################################################################
##############################################################################
###
### Running command:
###
###   /home/biocbuild/bbs-3.13-bioc/R/bin/R CMD build --keep-empty-dirs --no-resave-data ALLMLL
###
##############################################################################
##############################################################################


* checking for file ‘ALLMLL/DESCRIPTION’ ... OK
* preparing ‘ALLMLL’:
* checking DESCRIPTION meta-information ... OK
* checking for LF line-endings in source and make files and shell scripts
* checking for empty or unneeded directories
* looking to see if a ‘data/datalist’ file should be added
* building ‘ALLMLL_1.31.0.tar.gz’