Back to Multiple platform build/check report for BioC 3.13 experimental data |
|
This page was generated on 2021-01-21 16:01:21 -0500 (Thu, 21 Jan 2021).
TO THE DEVELOPERS/MAINTAINERS OF THE RTCGA.RPPA PACKAGE: Please make sure to use the following settings in order to reproduce any error or warning you see on this page. |
Package 318/386 | Hostname | OS / Arch | INSTALL | BUILD | CHECK | ||||||
RTCGA.RPPA 1.19.0 Marcin Kosinski
| malbec2 | Linux (Ubuntu 20.04.1 LTS) / x86_64 | OK | [ OK ] | OK | ![]() | |||||
riesling1 | Windows Server 2019 Standard / x64 | OK | OK | WARNINGS |
Package: RTCGA.RPPA |
Version: 1.19.0 |
Command: /home/biocbuild/bbs-3.13-bioc/R/bin/R CMD build --keep-empty-dirs --no-resave-data RTCGA.RPPA |
StartedAt: 2021-01-21 11:22:47 -0500 (Thu, 21 Jan 2021) |
EndedAt: 2021-01-21 11:23:04 -0500 (Thu, 21 Jan 2021) |
EllapsedTime: 17.1 seconds |
RetCode: 0 |
Status: OK |
PackageFile: RTCGA.RPPA_1.19.0.tar.gz |
PackageFileSize: 13.09 MiB |
############################################################################## ############################################################################## ### ### Running command: ### ### /home/biocbuild/bbs-3.13-bioc/R/bin/R CMD build --keep-empty-dirs --no-resave-data RTCGA.RPPA ### ############################################################################## ############################################################################## * checking for file ‘RTCGA.RPPA/DESCRIPTION’ ... OK * preparing ‘RTCGA.RPPA’: * checking DESCRIPTION meta-information ... OK * installing the package to build vignettes * creating vignettes ... OK * checking for LF line-endings in source and make files and shell scripts * checking for empty or unneeded directories * building ‘RTCGA.RPPA_1.19.0.tar.gz’