Back to Multiple platform build/check report for BioC 3.13 experimental data
AB[C]DEFGHIJKLMNOPQRSTUVWXYZ

BUILD report for ccdata on malbec2

This page was generated on 2021-01-14 15:58:58 -0500 (Thu, 14 Jan 2021).

TO THE DEVELOPERS/MAINTAINERS OF THE ccdata PACKAGE: Please make sure to use the following settings in order to reproduce any error or warning you see on this page.
Package 46/385HostnameOS / ArchINSTALLBUILDCHECK
ccdata 1.17.0
Alex Pickering
Snapshot Date: 2021-01-14 09:00:13 -0500 (Thu, 14 Jan 2021)
URL: https://git.bioconductor.org/packages/ccdata
Branch: master
Last Commit: 7f6a164
Last Changed Date: 2020-10-27 10:21:01 -0500 (Tue, 27 Oct 2020)
malbec2 Linux (Ubuntu 20.04.1 LTS) / x86_64  OK [ OK ] WARNINGS UNNEEDED, same version exists in internal repository
riesling1 Windows Server 2019 Standard / x64  OK  OK  WARNINGS 

Summary

Package: ccdata
Version: 1.17.0
Command: /home/biocbuild/bbs-3.13-bioc/R/bin/R CMD build --keep-empty-dirs --no-resave-data ccdata
StartedAt: 2021-01-14 10:19:22 -0500 (Thu, 14 Jan 2021)
EndedAt: 2021-01-14 10:20:38 -0500 (Thu, 14 Jan 2021)
EllapsedTime: 75.4 seconds
RetCode: 0
Status:  OK 
PackageFile: ccdata_1.17.0.tar.gz
PackageFileSize: 893.9 MiB

Command output

##############################################################################
##############################################################################
###
### Running command:
###
###   /home/biocbuild/bbs-3.13-bioc/R/bin/R CMD build --keep-empty-dirs --no-resave-data ccdata
###
##############################################################################
##############################################################################


* checking for file ‘ccdata/DESCRIPTION’ ... OK
* preparing ‘ccdata’:
* checking DESCRIPTION meta-information ... OK
* checking for LF line-endings in source and make files and shell scripts
* checking for empty or unneeded directories
* looking to see if a ‘data/datalist’ file should be added
* building ‘ccdata_1.17.0.tar.gz’