Back to Multiple platform build/check report for BioC 3.13 experimental data |
|
This page was generated on 2021-01-14 15:58:56 -0500 (Thu, 14 Jan 2021).
TO THE DEVELOPERS/MAINTAINERS OF THE Affyhgu133A2Expr PACKAGE: Please make sure to use the following settings in order to reproduce any error or warning you see on this page. |
Package 5/385 | Hostname | OS / Arch | INSTALL | BUILD | CHECK | ||||||
Affyhgu133A2Expr 1.27.0 Zhicheng Ji
| malbec2 | Linux (Ubuntu 20.04.1 LTS) / x86_64 | [ OK ] | OK | OK | ![]() | |||||
riesling1 | Windows Server 2019 Standard / x64 | OK | OK | OK |
Package: Affyhgu133A2Expr |
Version: 1.27.0 |
Command: /home/biocbuild/bbs-3.13-bioc/R/bin/R CMD INSTALL Affyhgu133A2Expr |
StartedAt: 2021-01-14 09:47:55 -0500 (Thu, 14 Jan 2021) |
EndedAt: 2021-01-14 09:47:57 -0500 (Thu, 14 Jan 2021) |
EllapsedTime: 2.2 seconds |
RetCode: 0 |
Status: OK |
############################################################################## ############################################################################## ### ### Running command: ### ### /home/biocbuild/bbs-3.13-bioc/R/bin/R CMD INSTALL Affyhgu133A2Expr ### ############################################################################## ############################################################################## * installing to library ‘/home/biocbuild/bbs-3.13-bioc/R/library’ * installing *source* package ‘Affyhgu133A2Expr’ ... ** using staged installation ** data ** inst ** help *** installing help indices ** building package indices ** testing if installed package can be loaded from temporary location ** testing if installed package can be loaded from final location ** testing if installed package keeps a record of temporary installation path * DONE (Affyhgu133A2Expr)