Back to Multiple platform build/check report for BioC 3.13 experimental data
ABC[D]EFGHIJKLMNOPQRSTUVWXYZ

BUILD report for dorothea on malbec2

This page was generated on 2021-01-21 16:01:08 -0500 (Thu, 21 Jan 2021).

TO THE DEVELOPERS/MAINTAINERS OF THE dorothea PACKAGE: Please make sure to use the following settings in order to reproduce any error or warning you see on this page.
Package 99/386HostnameOS / ArchINSTALLBUILDCHECK
dorothea 1.3.0
Christian H. Holland
Snapshot Date: 2021-01-21 09:00:14 -0500 (Thu, 21 Jan 2021)
URL: https://git.bioconductor.org/packages/dorothea
Branch: master
Last Commit: 6e2b837
Last Changed Date: 2020-10-27 10:31:26 -0500 (Tue, 27 Oct 2020)
malbec2 Linux (Ubuntu 20.04.1 LTS) / x86_64  OK [ OK ] OK UNNEEDED, same version exists in internal repository
riesling1 Windows Server 2019 Standard / x64  OK  OK  WARNINGS 

Summary

Package: dorothea
Version: 1.3.0
Command: /home/biocbuild/bbs-3.13-bioc/R/bin/R CMD build --keep-empty-dirs --no-resave-data dorothea
StartedAt: 2021-01-21 10:36:50 -0500 (Thu, 21 Jan 2021)
EndedAt: 2021-01-21 10:39:01 -0500 (Thu, 21 Jan 2021)
EllapsedTime: 130.9 seconds
RetCode: 0
Status:  OK 
PackageFile: dorothea_1.3.0.tar.gz
PackageFileSize: 30.84 MiB

Command output

##############################################################################
##############################################################################
###
### Running command:
###
###   /home/biocbuild/bbs-3.13-bioc/R/bin/R CMD build --keep-empty-dirs --no-resave-data dorothea
###
##############################################################################
##############################################################################


* checking for file ‘dorothea/DESCRIPTION’ ... OK
* preparing ‘dorothea’:
* checking DESCRIPTION meta-information ... OK
* installing the package to build vignettes
* creating vignettes ... OK
* checking for LF line-endings in source and make files and shell scripts
* checking for empty or unneeded directories
* building ‘dorothea_1.3.0.tar.gz’