Back to Multiple platform build/check report for BioC 3.13 experimental data
AB[C]DEFGHIJKLMNOPQRSTUVWXYZ

BUILD report for ChIPXpressData on malbec2

This page was generated on 2021-01-14 15:58:58 -0500 (Thu, 14 Jan 2021).

TO THE DEVELOPERS/MAINTAINERS OF THE ChIPXpressData PACKAGE: Please make sure to use the following settings in order to reproduce any error or warning you see on this page.
Package 62/385HostnameOS / ArchINSTALLBUILDCHECK
ChIPXpressData 1.29.0
George Wu
Snapshot Date: 2021-01-14 09:00:13 -0500 (Thu, 14 Jan 2021)
URL: https://git.bioconductor.org/packages/ChIPXpressData
Branch: master
Last Commit: 761a41d
Last Changed Date: 2020-10-27 09:57:08 -0500 (Tue, 27 Oct 2020)
malbec2 Linux (Ubuntu 20.04.1 LTS) / x86_64  OK [ OK ] WARNINGS UNNEEDED, same version exists in internal repository
riesling1 Windows Server 2019 Standard / x64 ...NOT SUPPORTED...

Summary

Package: ChIPXpressData
Version: 1.29.0
Command: /home/biocbuild/bbs-3.13-bioc/R/bin/R CMD build --keep-empty-dirs --no-resave-data ChIPXpressData
StartedAt: 2021-01-14 10:25:52 -0500 (Thu, 14 Jan 2021)
EndedAt: 2021-01-14 10:33:26 -0500 (Thu, 14 Jan 2021)
EllapsedTime: 454.2 seconds
RetCode: 0
Status:  OK 
PackageFile: ChIPXpressData_1.29.0.tar.gz
PackageFileSize: 3.171 GiB

Command output

##############################################################################
##############################################################################
###
### Running command:
###
###   /home/biocbuild/bbs-3.13-bioc/R/bin/R CMD build --keep-empty-dirs --no-resave-data ChIPXpressData
###
##############################################################################
##############################################################################


* checking for file ‘ChIPXpressData/DESCRIPTION’ ... OK
* preparing ‘ChIPXpressData’:
* checking DESCRIPTION meta-information ... OK
* checking for LF line-endings in source and make files and shell scripts
* checking for empty or unneeded directories
* looking to see if a ‘data/datalist’ file should be added
* building ‘ChIPXpressData_1.29.0.tar.gz’