Back to Multiple platform build/check report for BioC 3.13 experimental data
ABCDEFGHIJ[K]LMNOPQRSTUVWXYZ

INSTALL report for kidpack on malbec2

This page was generated on 2021-01-14 15:59:03 -0500 (Thu, 14 Jan 2021).

TO THE DEVELOPERS/MAINTAINERS OF THE kidpack PACKAGE: Please make sure to use the following settings in order to reproduce any error or warning you see on this page.
Package 193/385HostnameOS / ArchINSTALLBUILDCHECK
kidpack 1.33.0
Wolfgang Huber
Snapshot Date: 2021-01-14 09:00:13 -0500 (Thu, 14 Jan 2021)
URL: https://git.bioconductor.org/packages/kidpack
Branch: master
Last Commit: b3e71ba
Last Changed Date: 2020-10-27 09:46:40 -0500 (Tue, 27 Oct 2020)
malbec2 Linux (Ubuntu 20.04.1 LTS) / x86_64 [ OK ] OK  WARNINGS UNNEEDED, same version exists in internal repository
riesling1 Windows Server 2019 Standard / x64  OK  OK  WARNINGS 

Summary

Package: kidpack
Version: 1.33.0
Command: /home/biocbuild/bbs-3.13-bioc/R/bin/R CMD INSTALL kidpack
StartedAt: 2021-01-14 09:54:13 -0500 (Thu, 14 Jan 2021)
EndedAt: 2021-01-14 09:54:22 -0500 (Thu, 14 Jan 2021)
EllapsedTime: 9.2 seconds
RetCode: 0
Status:  OK 

Command output

##############################################################################
##############################################################################
###
### Running command:
###
###   /home/biocbuild/bbs-3.13-bioc/R/bin/R CMD INSTALL kidpack
###
##############################################################################
##############################################################################


* installing to library ‘/home/biocbuild/bbs-3.13-bioc/R/library’
* installing *source* package ‘kidpack’ ...
** using staged installation
** R
** data
** inst
** byte-compile and prepare package for lazy loading
** help
*** installing help indices
** building package indices
** installing vignettes
** testing if installed package can be loaded from temporary location

*** Deprecation warning ***:
The package 'kidpack' is deprecated and will not be supported after Bioconductor release 2.1.


** testing if installed package can be loaded from final location

*** Deprecation warning ***:
The package 'kidpack' is deprecated and will not be supported after Bioconductor release 2.1.


** testing if installed package keeps a record of temporary installation path
* DONE (kidpack)