Back to Multiple platform build/check report for BioC 3.13 experimental data
ABCDEFG[H]IJKLMNOPQRSTUVWXYZ

BUILD report for HIVcDNAvantWout03 on malbec2

This page was generated on 2021-01-14 15:59:03 -0500 (Thu, 14 Jan 2021).

TO THE DEVELOPERS/MAINTAINERS OF THE HIVcDNAvantWout03 PACKAGE: Please make sure to use the following settings in order to reproduce any error or warning you see on this page.
Package 176/385HostnameOS / ArchINSTALLBUILDCHECK
HIVcDNAvantWout03 1.31.0
Chris Fraley
Snapshot Date: 2021-01-14 09:00:13 -0500 (Thu, 14 Jan 2021)
URL: https://git.bioconductor.org/packages/HIVcDNAvantWout03
Branch: master
Last Commit: 3a4e1d5
Last Changed Date: 2020-10-27 09:46:34 -0500 (Tue, 27 Oct 2020)
malbec2 Linux (Ubuntu 20.04.1 LTS) / x86_64  OK [ OK ] WARNINGS UNNEEDED, same version exists in internal repository
riesling1 Windows Server 2019 Standard / x64  OK  OK  WARNINGS 

Summary

Package: HIVcDNAvantWout03
Version: 1.31.0
Command: /home/biocbuild/bbs-3.13-bioc/R/bin/R CMD build --keep-empty-dirs --no-resave-data HIVcDNAvantWout03
StartedAt: 2021-01-14 11:01:22 -0500 (Thu, 14 Jan 2021)
EndedAt: 2021-01-14 11:01:27 -0500 (Thu, 14 Jan 2021)
EllapsedTime: 5.5 seconds
RetCode: 0
Status:  OK 
PackageFile: HIVcDNAvantWout03_1.31.0.tar.gz
PackageFileSize: 1.711 MiB

Command output

##############################################################################
##############################################################################
###
### Running command:
###
###   /home/biocbuild/bbs-3.13-bioc/R/bin/R CMD build --keep-empty-dirs --no-resave-data HIVcDNAvantWout03
###
##############################################################################
##############################################################################


* checking for file ‘HIVcDNAvantWout03/DESCRIPTION’ ... OK
* preparing ‘HIVcDNAvantWout03’:
* checking DESCRIPTION meta-information ... OK
* checking whether ‘INDEX’ is up-to-date ... NO
* use ‘--force’ to remove the existing ‘INDEX’
* checking for LF line-endings in source and make files and shell scripts
* checking for empty or unneeded directories
* looking to see if a ‘data/datalist’ file should be added
Read 450000 items
Read 450000 items
* building ‘HIVcDNAvantWout03_1.31.0.tar.gz’