Back to Multiple platform build/check report for BioC 3.13 experimental data |
|
This page was generated on 2021-01-14 15:58:59 -0500 (Thu, 14 Jan 2021).
TO THE DEVELOPERS/MAINTAINERS OF THE diggitdata PACKAGE: Please make sure to use the following settings in order to reproduce any error or warning you see on this page. |
Package 94/385 | Hostname | OS / Arch | INSTALL | BUILD | CHECK | ||||||
diggitdata 1.23.0 Mariano Javier Alvarez
| malbec2 | Linux (Ubuntu 20.04.1 LTS) / x86_64 | OK | [ OK ] | OK | ![]() | |||||
riesling1 | Windows Server 2019 Standard / x64 | OK | OK | OK |
Package: diggitdata |
Version: 1.23.0 |
Command: /home/biocbuild/bbs-3.13-bioc/R/bin/R CMD build --keep-empty-dirs --no-resave-data diggitdata |
StartedAt: 2021-01-14 10:34:39 -0500 (Thu, 14 Jan 2021) |
EndedAt: 2021-01-14 10:34:55 -0500 (Thu, 14 Jan 2021) |
EllapsedTime: 16.1 seconds |
RetCode: 0 |
Status: OK |
PackageFile: diggitdata_1.23.0.tar.gz |
PackageFileSize: 47.33 MiB |
############################################################################## ############################################################################## ### ### Running command: ### ### /home/biocbuild/bbs-3.13-bioc/R/bin/R CMD build --keep-empty-dirs --no-resave-data diggitdata ### ############################################################################## ############################################################################## * checking for file ‘diggitdata/DESCRIPTION’ ... OK * preparing ‘diggitdata’: * checking DESCRIPTION meta-information ... OK * installing the package to build vignettes * creating vignettes ... OK * checking for LF line-endings in source and make files and shell scripts * checking for empty or unneeded directories * looking to see if a ‘data/datalist’ file should be added * building ‘diggitdata_1.23.0.tar.gz’