Back to Multiple platform build/check report for BioC 3.13 experimental data |
|
This page was generated on 2021-01-21 16:01:13 -0500 (Thu, 21 Jan 2021).
TO THE DEVELOPERS/MAINTAINERS OF THE LungCancerLines PACKAGE: Please make sure to use the following settings in order to reproduce any error or warning you see on this page. |
Package 201/386 | Hostname | OS / Arch | INSTALL | BUILD | CHECK | ||||||
LungCancerLines 0.29.0 Cory Barr
| malbec2 | Linux (Ubuntu 20.04.1 LTS) / x86_64 | OK | [ OK ] | OK | ![]() | |||||
riesling1 | Windows Server 2019 Standard / x64 | OK | OK | OK |
Package: LungCancerLines |
Version: 0.29.0 |
Command: /home/biocbuild/bbs-3.13-bioc/R/bin/R CMD build --keep-empty-dirs --no-resave-data LungCancerLines |
StartedAt: 2021-01-21 11:03:47 -0500 (Thu, 21 Jan 2021) |
EndedAt: 2021-01-21 11:03:48 -0500 (Thu, 21 Jan 2021) |
EllapsedTime: 0.8 seconds |
RetCode: 0 |
Status: OK |
PackageFile: LungCancerLines_0.29.0.tar.gz |
PackageFileSize: 1.609 MiB |
############################################################################## ############################################################################## ### ### Running command: ### ### /home/biocbuild/bbs-3.13-bioc/R/bin/R CMD build --keep-empty-dirs --no-resave-data LungCancerLines ### ############################################################################## ############################################################################## * checking for file ‘LungCancerLines/DESCRIPTION’ ... OK * preparing ‘LungCancerLines’: * checking DESCRIPTION meta-information ... OK * checking for LF line-endings in source and make files and shell scripts * checking for empty or unneeded directories * building ‘LungCancerLines_0.29.0.tar.gz’