Back to Multiple platform build/check report for BioC 3.13 experimental data
ABC[D]EFGHIJKLMNOPQRSTUVWXYZ

BUILD report for DuoClustering2018 on malbec2

This page was generated on 2021-01-21 16:01:08 -0500 (Thu, 21 Jan 2021).

TO THE DEVELOPERS/MAINTAINERS OF THE DuoClustering2018 PACKAGE: Please make sure to use the following settings in order to reproduce any error or warning you see on this page.
Package 105/386HostnameOS / ArchINSTALLBUILDCHECK
DuoClustering2018 1.9.0
Angelo Duò
Snapshot Date: 2021-01-21 09:00:14 -0500 (Thu, 21 Jan 2021)
URL: https://git.bioconductor.org/packages/DuoClustering2018
Branch: master
Last Commit: bac06f0
Last Changed Date: 2020-10-27 10:27:19 -0500 (Tue, 27 Oct 2020)
malbec2 Linux (Ubuntu 20.04.1 LTS) / x86_64  OK [ OK ] OK UNNEEDED, same version exists in internal repository
riesling1 Windows Server 2019 Standard / x64  OK  OK  OK 

Summary

Package: DuoClustering2018
Version: 1.9.0
Command: /home/biocbuild/bbs-3.13-bioc/R/bin/R CMD build --keep-empty-dirs --no-resave-data DuoClustering2018
StartedAt: 2021-01-21 10:39:07 -0500 (Thu, 21 Jan 2021)
EndedAt: 2021-01-21 10:41:29 -0500 (Thu, 21 Jan 2021)
EllapsedTime: 141.2 seconds
RetCode: 0
Status:  OK 
PackageFile: DuoClustering2018_1.9.0.tar.gz
PackageFileSize: 1.943 MiB

Command output

##############################################################################
##############################################################################
###
### Running command:
###
###   /home/biocbuild/bbs-3.13-bioc/R/bin/R CMD build --keep-empty-dirs --no-resave-data DuoClustering2018
###
##############################################################################
##############################################################################


* checking for file ‘DuoClustering2018/DESCRIPTION’ ... OK
* preparing ‘DuoClustering2018’:
* checking DESCRIPTION meta-information ... OK
* installing the package to build vignettes
* creating vignettes ... OK
* checking for LF line-endings in source and make files and shell scripts
* checking for empty or unneeded directories
* building ‘DuoClustering2018_1.9.0.tar.gz’