Back to Multiple platform build/check report for BioC 3.13 experimental data
ABCDEFGHIJKL[M]NOPQRSTUVWXYZ

INSTALL report for MouseGastrulationData on malbec2

This page was generated on 2021-01-21 16:01:15 -0500 (Thu, 21 Jan 2021).

TO THE DEVELOPERS/MAINTAINERS OF THE MouseGastrulationData PACKAGE: Please make sure to use the following settings in order to reproduce any error or warning you see on this page.
Package 234/386HostnameOS / ArchINSTALLBUILDCHECK
MouseGastrulationData 1.5.5
Jonathan Griffiths
Snapshot Date: 2021-01-21 09:00:14 -0500 (Thu, 21 Jan 2021)
URL: https://git.bioconductor.org/packages/MouseGastrulationData
Branch: master
Last Commit: 1f56913
Last Changed Date: 2021-01-17 10:22:59 -0500 (Sun, 17 Jan 2021)
malbec2 Linux (Ubuntu 20.04.1 LTS) / x86_64 [ OK ] OK  OK UNNEEDED, same version exists in internal repository
riesling1 Windows Server 2019 Standard / x64  OK  OK  OK 

Summary

Package: MouseGastrulationData
Version: 1.5.5
Command: /home/biocbuild/bbs-3.13-bioc/R/bin/R CMD INSTALL MouseGastrulationData
StartedAt: 2021-01-21 10:02:12 -0500 (Thu, 21 Jan 2021)
EndedAt: 2021-01-21 10:02:40 -0500 (Thu, 21 Jan 2021)
EllapsedTime: 28.2 seconds
RetCode: 0
Status:  OK 

Command output

##############################################################################
##############################################################################
###
### Running command:
###
###   /home/biocbuild/bbs-3.13-bioc/R/bin/R CMD INSTALL MouseGastrulationData
###
##############################################################################
##############################################################################


* installing to library ‘/home/biocbuild/bbs-3.13-bioc/R/library’
* installing *source* package ‘MouseGastrulationData’ ...
** using staged installation
** R
** inst
** byte-compile and prepare package for lazy loading
** help
*** installing help indices
** building package indices
** installing vignettes
** testing if installed package can be loaded from temporary location
** testing if installed package can be loaded from final location
** testing if installed package keeps a record of temporary installation path
* DONE (MouseGastrulationData)