Back to Multiple platform build/check report for BioC 3.13 experimental data
ABCDEFG[H]IJKLMNOPQRSTUVWXYZ

BUILD report for HSMMSingleCell on malbec2

This page was generated on 2021-01-11 15:59:23 -0500 (Mon, 11 Jan 2021).

TO THE DEVELOPERS/MAINTAINERS OF THE HSMMSingleCell PACKAGE: Please make sure to use the following settings in order to reproduce any error or warning you see on this page.
Package 180/385HostnameOS / ArchINSTALLBUILDCHECK
HSMMSingleCell 1.11.0
Cole Trapnell
Snapshot Date: 2021-01-11 09:00:09 -0500 (Mon, 11 Jan 2021)
URL: https://git.bioconductor.org/packages/HSMMSingleCell
Branch: master
Last Commit: 58c28c0
Last Changed Date: 2020-10-27 10:09:00 -0500 (Tue, 27 Oct 2020)
malbec2 Linux (Ubuntu 20.04.1 LTS) / x86_64  OK [ OK ] WARNINGS UNNEEDED, same version exists in internal repository
riesling1 Windows Server 2019 Standard / x64  OK  OK  WARNINGS 

Summary

Package: HSMMSingleCell
Version: 1.11.0
Command: /home/biocbuild/bbs-3.13-bioc/R/bin/R CMD build --keep-empty-dirs --no-resave-data HSMMSingleCell
StartedAt: 2021-01-11 11:01:06 -0500 (Mon, 11 Jan 2021)
EndedAt: 2021-01-11 11:01:09 -0500 (Mon, 11 Jan 2021)
EllapsedTime: 2.8 seconds
RetCode: 0
Status:  OK 
PackageFile: HSMMSingleCell_1.11.0.tar.gz
PackageFileSize: 16.09 MiB

Command output

##############################################################################
##############################################################################
###
### Running command:
###
###   /home/biocbuild/bbs-3.13-bioc/R/bin/R CMD build --keep-empty-dirs --no-resave-data HSMMSingleCell
###
##############################################################################
##############################################################################


* checking for file ‘HSMMSingleCell/DESCRIPTION’ ... OK
* preparing ‘HSMMSingleCell’:
* checking DESCRIPTION meta-information ... OK
* checking for LF line-endings in source and make files and shell scripts
* checking for empty or unneeded directories
* looking to see if a ‘data/datalist’ file should be added
* building ‘HSMMSingleCell_1.11.0.tar.gz’