Back to Multiple platform build/check report for BioC 3.13 experimental data |
|
This page was generated on 2021-01-21 16:01:22 -0500 (Thu, 21 Jan 2021).
TO THE DEVELOPERS/MAINTAINERS OF THE spqnData PACKAGE: Please make sure to use the following settings in order to reproduce any error or warning you see on this page. |
Package 345/386 | Hostname | OS / Arch | INSTALL | BUILD | CHECK | ||||||
spqnData 1.3.0 Yi Wang
| malbec2 | Linux (Ubuntu 20.04.1 LTS) / x86_64 | OK | [ OK ] | OK | ![]() | |||||
riesling1 | Windows Server 2019 Standard / x64 | OK | OK | OK |
Package: spqnData |
Version: 1.3.0 |
Command: /home/biocbuild/bbs-3.13-bioc/R/bin/R CMD build --keep-empty-dirs --no-resave-data spqnData |
StartedAt: 2021-01-21 11:28:44 -0500 (Thu, 21 Jan 2021) |
EndedAt: 2021-01-21 11:28:46 -0500 (Thu, 21 Jan 2021) |
EllapsedTime: 2.3 seconds |
RetCode: 0 |
Status: OK |
PackageFile: spqnData_1.3.0.tar.gz |
PackageFileSize: 10.19 MiB |
############################################################################## ############################################################################## ### ### Running command: ### ### /home/biocbuild/bbs-3.13-bioc/R/bin/R CMD build --keep-empty-dirs --no-resave-data spqnData ### ############################################################################## ############################################################################## * checking for file ‘spqnData/DESCRIPTION’ ... OK * preparing ‘spqnData’: * checking DESCRIPTION meta-information ... OK * checking for LF line-endings in source and make files and shell scripts * checking for empty or unneeded directories * looking to see if a ‘data/datalist’ file should be added * building ‘spqnData_1.3.0.tar.gz’