Back to Multiple platform build/check report for BioC 3.13 experimental data
[A]BCDEFGHIJKLMNOPQRSTUVWXYZ

BUILD report for Affyhgu133A2Expr on malbec2

This page was generated on 2021-01-21 16:01:01 -0500 (Thu, 21 Jan 2021).

TO THE DEVELOPERS/MAINTAINERS OF THE Affyhgu133A2Expr PACKAGE: Please make sure to use the following settings in order to reproduce any error or warning you see on this page.
Package 5/386HostnameOS / ArchINSTALLBUILDCHECK
Affyhgu133A2Expr 1.27.0
Zhicheng Ji
Snapshot Date: 2021-01-21 09:00:14 -0500 (Thu, 21 Jan 2021)
URL: https://git.bioconductor.org/packages/Affyhgu133A2Expr
Branch: master
Last Commit: 325a4ba
Last Changed Date: 2020-10-27 10:08:21 -0500 (Tue, 27 Oct 2020)
malbec2 Linux (Ubuntu 20.04.1 LTS) / x86_64  OK [ OK ] OK UNNEEDED, same version exists in internal repository
riesling1 Windows Server 2019 Standard / x64  OK  OK  OK 

Summary

Package: Affyhgu133A2Expr
Version: 1.27.0
Command: /home/biocbuild/bbs-3.13-bioc/R/bin/R CMD build --keep-empty-dirs --no-resave-data Affyhgu133A2Expr
StartedAt: 2021-01-21 10:17:28 -0500 (Thu, 21 Jan 2021)
EndedAt: 2021-01-21 10:17:30 -0500 (Thu, 21 Jan 2021)
EllapsedTime: 2.5 seconds
RetCode: 0
Status:  OK 
PackageFile: Affyhgu133A2Expr_1.27.0.tar.gz
PackageFileSize: 8.838 MiB

Command output

##############################################################################
##############################################################################
###
### Running command:
###
###   /home/biocbuild/bbs-3.13-bioc/R/bin/R CMD build --keep-empty-dirs --no-resave-data Affyhgu133A2Expr
###
##############################################################################
##############################################################################


* checking for file ‘Affyhgu133A2Expr/DESCRIPTION’ ... OK
* preparing ‘Affyhgu133A2Expr’:
* checking DESCRIPTION meta-information ... OK
* checking for LF line-endings in source and make files and shell scripts
* checking for empty or unneeded directories
* looking to see if a ‘data/datalist’ file should be added
* building ‘Affyhgu133A2Expr_1.27.0.tar.gz’