Back to Multiple platform build/check report for BioC 3.13 experimental data
ABCDEFGHIJKLMNOPQR[S]TUVWXYZ

BUILD report for SpikeIn on malbec2

This page was generated on 2021-01-14 15:59:05 -0500 (Thu, 14 Jan 2021).

TO THE DEVELOPERS/MAINTAINERS OF THE SpikeIn PACKAGE: Please make sure to use the following settings in order to reproduce any error or warning you see on this page.
Package 342/385HostnameOS / ArchINSTALLBUILDCHECK
SpikeIn 1.33.0
Rafael A. Irizarry
Snapshot Date: 2021-01-14 09:00:13 -0500 (Thu, 14 Jan 2021)
URL: https://git.bioconductor.org/packages/SpikeIn
Branch: master
Last Commit: 4e1a8c0
Last Changed Date: 2020-10-27 09:47:01 -0500 (Tue, 27 Oct 2020)
malbec2 Linux (Ubuntu 20.04.1 LTS) / x86_64  OK [ OK ] WARNINGS UNNEEDED, same version exists in internal repository
riesling1 Windows Server 2019 Standard / x64  OK  OK  WARNINGS 

Summary

Package: SpikeIn
Version: 1.33.0
Command: /home/biocbuild/bbs-3.13-bioc/R/bin/R CMD build --keep-empty-dirs --no-resave-data SpikeIn
StartedAt: 2021-01-14 11:31:30 -0500 (Thu, 14 Jan 2021)
EndedAt: 2021-01-14 11:31:42 -0500 (Thu, 14 Jan 2021)
EllapsedTime: 12.3 seconds
RetCode: 0
Status:  OK 
PackageFile: SpikeIn_1.33.0.tar.gz
PackageFileSize: 63.05 MiB

Command output

##############################################################################
##############################################################################
###
### Running command:
###
###   /home/biocbuild/bbs-3.13-bioc/R/bin/R CMD build --keep-empty-dirs --no-resave-data SpikeIn
###
##############################################################################
##############################################################################


* checking for file ‘SpikeIn/DESCRIPTION’ ... OK
* preparing ‘SpikeIn’:
* checking DESCRIPTION meta-information ... OK
* checking for LF line-endings in source and make files and shell scripts
* checking for empty or unneeded directories
* looking to see if a ‘data/datalist’ file should be added
* building ‘SpikeIn_1.33.0.tar.gz’