Back to Multiple platform build/check report for BioC 3.13 experimental data
ABCDE[F]GHIJKLMNOPQRSTUVWXYZ

BUILD report for flowWorkspaceData on malbec2

This page was generated on 2021-01-11 15:59:22 -0500 (Mon, 11 Jan 2021).

TO THE DEVELOPERS/MAINTAINERS OF THE flowWorkspaceData PACKAGE: Please make sure to use the following settings in order to reproduce any error or warning you see on this page.
Package 132/385HostnameOS / ArchINSTALLBUILDCHECK
flowWorkspaceData 3.3.0
Mike Jiang
Snapshot Date: 2021-01-11 09:00:09 -0500 (Mon, 11 Jan 2021)
URL: https://git.bioconductor.org/packages/flowWorkspaceData
Branch: master
Last Commit: dba5e30
Last Changed Date: 2020-10-27 09:53:07 -0500 (Tue, 27 Oct 2020)
malbec2 Linux (Ubuntu 20.04.1 LTS) / x86_64  OK [ OK ] OK UNNEEDED, same version exists in internal repository
riesling1 Windows Server 2019 Standard / x64  OK  OK  OK 

Summary

Package: flowWorkspaceData
Version: 3.3.0
Command: /home/biocbuild/bbs-3.13-bioc/R/bin/R CMD build --keep-empty-dirs --no-resave-data flowWorkspaceData
StartedAt: 2021-01-11 10:50:43 -0500 (Mon, 11 Jan 2021)
EndedAt: 2021-01-11 10:51:08 -0500 (Mon, 11 Jan 2021)
EllapsedTime: 25.2 seconds
RetCode: 0
Status:  OK 
PackageFile: flowWorkspaceData_3.3.0.tar.gz
PackageFileSize: 71.15 MiB

Command output

##############################################################################
##############################################################################
###
### Running command:
###
###   /home/biocbuild/bbs-3.13-bioc/R/bin/R CMD build --keep-empty-dirs --no-resave-data flowWorkspaceData
###
##############################################################################
##############################################################################


* checking for file ‘flowWorkspaceData/DESCRIPTION’ ... OK
* preparing ‘flowWorkspaceData’:
* checking DESCRIPTION meta-information ... OK
* checking for LF line-endings in source and make files and shell scripts
* checking for empty or unneeded directories
* building ‘flowWorkspaceData_3.3.0.tar.gz’