Back to Multiple platform build/check report for BioC 3.13 experimental data
ABCDEFG[H]IJKLMNOPQRSTUVWXYZ

BUILD report for hgu2beta7 on malbec2

This page was generated on 2021-01-14 15:59:03 -0500 (Thu, 14 Jan 2021).

TO THE DEVELOPERS/MAINTAINERS OF THE hgu2beta7 PACKAGE: Please make sure to use the following settings in order to reproduce any error or warning you see on this page.
Package 171/385HostnameOS / ArchINSTALLBUILDCHECK
hgu2beta7 1.31.0
Bioconductor Package Maintainer
Snapshot Date: 2021-01-14 09:00:13 -0500 (Thu, 14 Jan 2021)
URL: https://git.bioconductor.org/packages/hgu2beta7
Branch: master
Last Commit: 1142ddf
Last Changed Date: 2020-10-27 09:46:31 -0500 (Tue, 27 Oct 2020)
malbec2 Linux (Ubuntu 20.04.1 LTS) / x86_64  OK [ OK ] WARNINGS UNNEEDED, same version exists in internal repository
riesling1 Windows Server 2019 Standard / x64  OK  OK  WARNINGS 

Summary

Package: hgu2beta7
Version: 1.31.0
Command: /home/biocbuild/bbs-3.13-bioc/R/bin/R CMD build --keep-empty-dirs --no-resave-data hgu2beta7
StartedAt: 2021-01-14 11:00:40 -0500 (Thu, 14 Jan 2021)
EndedAt: 2021-01-14 11:00:41 -0500 (Thu, 14 Jan 2021)
EllapsedTime: 1.5 seconds
RetCode: 0
Status:  OK 
PackageFile: hgu2beta7_1.31.0.tar.gz
PackageFileSize: 6.409 MiB

Command output

##############################################################################
##############################################################################
###
### Running command:
###
###   /home/biocbuild/bbs-3.13-bioc/R/bin/R CMD build --keep-empty-dirs --no-resave-data hgu2beta7
###
##############################################################################
##############################################################################


* checking for file ‘hgu2beta7/DESCRIPTION’ ... OK
* preparing ‘hgu2beta7’:
* checking DESCRIPTION meta-information ... OK
* checking for LF line-endings in source and make files and shell scripts
* checking for empty or unneeded directories
* building ‘hgu2beta7_1.31.0.tar.gz’