Back to Multiple platform build/check report for BioC 3.13 experimental data
AB[C]DEFGHIJKLMNOPQRSTUVWXYZ

INSTALL report for ceuhm3 on malbec2

This page was generated on 2021-01-14 15:58:58 -0500 (Thu, 14 Jan 2021).

TO THE DEVELOPERS/MAINTAINERS OF THE ceuhm3 PACKAGE: Please make sure to use the following settings in order to reproduce any error or warning you see on this page.
Package 54/385HostnameOS / ArchINSTALLBUILDCHECK
ceuhm3 0.29.1
VJ Carey
Snapshot Date: 2021-01-14 09:00:13 -0500 (Thu, 14 Jan 2021)
URL: https://git.bioconductor.org/packages/ceuhm3
Branch: master
Last Commit: 27a06f7
Last Changed Date: 2020-11-30 08:20:45 -0500 (Mon, 30 Nov 2020)
malbec2 Linux (Ubuntu 20.04.1 LTS) / x86_64 [ ERROR ] OK  ERROR 
riesling1 Windows Server 2019 Standard / x64  ERROR  OK  ERROR 

Summary

Package: ceuhm3
Version: 0.29.1
Command: /home/biocbuild/bbs-3.13-bioc/R/bin/R CMD INSTALL ceuhm3
StartedAt: 2021-01-14 10:14:57 -0500 (Thu, 14 Jan 2021)
EndedAt: 2021-01-14 10:14:58 -0500 (Thu, 14 Jan 2021)
EllapsedTime: 0.5 seconds
RetCode: 1
Status:  ERROR 

Command output

##############################################################################
##############################################################################
###
### Running command:
###
###   /home/biocbuild/bbs-3.13-bioc/R/bin/R CMD INSTALL ceuhm3
###
##############################################################################
##############################################################################


* installing to library ‘/home/biocbuild/bbs-3.13-bioc/R/library’
ERROR: dependencies ‘GGBase’, ‘GGtools’ are not available for package ‘ceuhm3’
* removing ‘/home/biocbuild/bbs-3.13-bioc/R/library/ceuhm3’