Back to Multiple platform build/check report for BioC 3.13 experimental data
ABCDEFGHIJKLMNOPQRS[T]UVWXYZ

INSTALL report for TCGAMethylation450k on malbec2

This page was generated on 2021-01-14 15:59:06 -0500 (Thu, 14 Jan 2021).

TO THE DEVELOPERS/MAINTAINERS OF THE TCGAMethylation450k PACKAGE: Please make sure to use the following settings in order to reproduce any error or warning you see on this page.
Package 358/385HostnameOS / ArchINSTALLBUILDCHECK
TCGAMethylation450k 1.27.0
Sean Davis
Snapshot Date: 2021-01-14 09:00:13 -0500 (Thu, 14 Jan 2021)
URL: https://git.bioconductor.org/packages/TCGAMethylation450k
Branch: master
Last Commit: b8f352a
Last Changed Date: 2020-10-27 09:54:00 -0500 (Tue, 27 Oct 2020)
malbec2 Linux (Ubuntu 20.04.1 LTS) / x86_64 [ OK ] OK  OK UNNEEDED, same version exists in internal repository
riesling1 Windows Server 2019 Standard / x64  OK  OK  OK 

Summary

Package: TCGAMethylation450k
Version: 1.27.0
Command: /home/biocbuild/bbs-3.13-bioc/R/bin/R CMD INSTALL TCGAMethylation450k
StartedAt: 2021-01-14 09:48:50 -0500 (Thu, 14 Jan 2021)
EndedAt: 2021-01-14 09:49:14 -0500 (Thu, 14 Jan 2021)
EllapsedTime: 24.2 seconds
RetCode: 0
Status:  OK 

Command output

##############################################################################
##############################################################################
###
### Running command:
###
###   /home/biocbuild/bbs-3.13-bioc/R/bin/R CMD INSTALL TCGAMethylation450k
###
##############################################################################
##############################################################################


* installing to library ‘/home/biocbuild/bbs-3.13-bioc/R/library’
* installing *source* package ‘TCGAMethylation450k’ ...
** using staged installation
** inst
** help
*** installing help indices
** building package indices
** testing if installed package can be loaded from temporary location
** testing if installed package can be loaded from final location
** testing if installed package keeps a record of temporary installation path
* DONE (TCGAMethylation450k)