Back to Multiple platform build/check report for BioC 3.13 experimental data
ABC[D]EFGHIJKLMNOPQRSTUVWXYZ

BUILD report for depmap on malbec2

This page was generated on 2021-01-21 16:01:07 -0500 (Thu, 21 Jan 2021).

TO THE DEVELOPERS/MAINTAINERS OF THE depmap PACKAGE: Please make sure to use the following settings in order to reproduce any error or warning you see on this page.
Package 90/386HostnameOS / ArchINSTALLBUILDCHECK
depmap 1.5.1
Laurent Gatto
Snapshot Date: 2021-01-21 09:00:14 -0500 (Thu, 21 Jan 2021)
URL: https://git.bioconductor.org/packages/depmap
Branch: master
Last Commit: f37525a
Last Changed Date: 2020-11-26 15:36:28 -0500 (Thu, 26 Nov 2020)
malbec2 Linux (Ubuntu 20.04.1 LTS) / x86_64  OK [ OK ] OK UNNEEDED, same version exists in internal repository
riesling1 Windows Server 2019 Standard / x64  OK  OK  OK 

Summary

Package: depmap
Version: 1.5.1
Command: /home/biocbuild/bbs-3.13-bioc/R/bin/R CMD build --keep-empty-dirs --no-resave-data depmap
StartedAt: 2021-01-21 10:34:54 -0500 (Thu, 21 Jan 2021)
EndedAt: 2021-01-21 10:52:59 -0500 (Thu, 21 Jan 2021)
EllapsedTime: 1084.2 seconds
RetCode: 0
Status:  OK 
PackageFile: depmap_1.5.1.tar.gz
PackageFileSize: 1.299 MiB

Command output

##############################################################################
##############################################################################
###
### Running command:
###
###   /home/biocbuild/bbs-3.13-bioc/R/bin/R CMD build --keep-empty-dirs --no-resave-data depmap
###
##############################################################################
##############################################################################


* checking for file ‘depmap/DESCRIPTION’ ... OK
* preparing ‘depmap’:
* checking DESCRIPTION meta-information ... OK
* installing the package to build vignettes
* creating vignettes ... OK
* checking for LF line-endings in source and make files and shell scripts
* checking for empty or unneeded directories
* building ‘depmap_1.5.1.tar.gz’