Back to Multiple platform build/check report for BioC 3.13 experimental data
ABCDEFGH[I]JKLMNOPQRSTUVWXYZ

BUILD report for ITALICSData on malbec2

This page was generated on 2021-01-14 15:59:03 -0500 (Thu, 14 Jan 2021).

TO THE DEVELOPERS/MAINTAINERS OF THE ITALICSData PACKAGE: Please make sure to use the following settings in order to reproduce any error or warning you see on this page.
Package 186/385HostnameOS / ArchINSTALLBUILDCHECK
ITALICSData 2.29.0
Guillem Rigaill
Snapshot Date: 2021-01-14 09:00:13 -0500 (Thu, 14 Jan 2021)
URL: https://git.bioconductor.org/packages/ITALICSData
Branch: master
Last Commit: 3b9d4f3
Last Changed Date: 2020-10-27 09:50:31 -0500 (Tue, 27 Oct 2020)
malbec2 Linux (Ubuntu 20.04.1 LTS) / x86_64  OK [ OK ] WARNINGS UNNEEDED, same version exists in internal repository
riesling1 Windows Server 2019 Standard / x64  OK  OK  WARNINGS 

Summary

Package: ITALICSData
Version: 2.29.0
Command: /home/biocbuild/bbs-3.13-bioc/R/bin/R CMD build --keep-empty-dirs --no-resave-data ITALICSData
StartedAt: 2021-01-14 11:03:53 -0500 (Thu, 14 Jan 2021)
EndedAt: 2021-01-14 11:05:04 -0500 (Thu, 14 Jan 2021)
EllapsedTime: 71.1 seconds
RetCode: 0
Status:  OK 
PackageFile: ITALICSData_2.29.0.tar.gz
PackageFileSize: 83.5 MiB

Command output

##############################################################################
##############################################################################
###
### Running command:
###
###   /home/biocbuild/bbs-3.13-bioc/R/bin/R CMD build --keep-empty-dirs --no-resave-data ITALICSData
###
##############################################################################
##############################################################################


* checking for file ‘ITALICSData/DESCRIPTION’ ... OK
* preparing ‘ITALICSData’:
* checking DESCRIPTION meta-information ... OK
* checking for LF line-endings in source and make files and shell scripts
* checking for empty or unneeded directories
* looking to see if a ‘data/datalist’ file should be added
* building ‘ITALICSData_2.29.0.tar.gz’