Back to Multiple platform build/check report for BioC 3.13 experimental data
ABCDE[F]GHIJKLMNOPQRSTUVWXYZ

BUILD report for fabiaData on malbec2

This page was generated on 2021-01-21 16:01:09 -0500 (Thu, 21 Jan 2021).

TO THE DEVELOPERS/MAINTAINERS OF THE fabiaData PACKAGE: Please make sure to use the following settings in order to reproduce any error or warning you see on this page.
Package 115/386HostnameOS / ArchINSTALLBUILDCHECK
fabiaData 1.29.0
Sepp Hochreiter
Snapshot Date: 2021-01-21 09:00:14 -0500 (Thu, 21 Jan 2021)
URL: https://git.bioconductor.org/packages/fabiaData
Branch: master
Last Commit: 337016f
Last Changed Date: 2020-10-27 09:59:59 -0500 (Tue, 27 Oct 2020)
malbec2 Linux (Ubuntu 20.04.1 LTS) / x86_64  OK [ OK ] OK UNNEEDED, same version exists in internal repository
riesling1 Windows Server 2019 Standard / x64  OK  OK  OK 

Summary

Package: fabiaData
Version: 1.29.0
Command: /home/biocbuild/bbs-3.13-bioc/R/bin/R CMD build --keep-empty-dirs --no-resave-data fabiaData
StartedAt: 2021-01-21 10:41:29 -0500 (Thu, 21 Jan 2021)
EndedAt: 2021-01-21 10:41:36 -0500 (Thu, 21 Jan 2021)
EllapsedTime: 6.9 seconds
RetCode: 0
Status:  OK 
PackageFile: fabiaData_1.29.0.tar.gz
PackageFileSize: 4.471 MiB

Command output

##############################################################################
##############################################################################
###
### Running command:
###
###   /home/biocbuild/bbs-3.13-bioc/R/bin/R CMD build --keep-empty-dirs --no-resave-data fabiaData
###
##############################################################################
##############################################################################


* checking for file ‘fabiaData/DESCRIPTION’ ... OK
* preparing ‘fabiaData’:
* checking DESCRIPTION meta-information ... OK
* running ‘cleanup’
* installing the package to build vignettes
* creating vignettes ... OK
* running ‘cleanup’
* checking for LF line-endings in source and make files and shell scripts
* checking for empty or unneeded directories
* looking to see if a ‘data/datalist’ file should be added
* building ‘fabiaData_1.29.0.tar.gz’