Back to Multiple platform build/check report for BioC 3.13 experimental data
A[B]CDEFGHIJKLMNOPQRSTUVWXYZ

BUILD report for beadarrayExampleData on malbec2

This page was generated on 2021-01-14 15:58:57 -0500 (Thu, 14 Jan 2021).

TO THE DEVELOPERS/MAINTAINERS OF THE beadarrayExampleData PACKAGE: Please make sure to use the following settings in order to reproduce any error or warning you see on this page.
Package 23/385HostnameOS / ArchINSTALLBUILDCHECK
beadarrayExampleData 1.29.0
Mark Dunning
Snapshot Date: 2021-01-14 09:00:13 -0500 (Thu, 14 Jan 2021)
URL: https://git.bioconductor.org/packages/beadarrayExampleData
Branch: master
Last Commit: fd38a77
Last Changed Date: 2020-10-27 09:53:57 -0500 (Tue, 27 Oct 2020)
malbec2 Linux (Ubuntu 20.04.1 LTS) / x86_64  OK [ OK ] OK UNNEEDED, same version exists in internal repository
riesling1 Windows Server 2019 Standard / x64  OK  OK  OK 

Summary

Package: beadarrayExampleData
Version: 1.29.0
Command: /home/biocbuild/bbs-3.13-bioc/R/bin/R CMD build --keep-empty-dirs --no-resave-data beadarrayExampleData
StartedAt: 2021-01-14 10:17:20 -0500 (Thu, 14 Jan 2021)
EndedAt: 2021-01-14 10:17:47 -0500 (Thu, 14 Jan 2021)
EllapsedTime: 26.3 seconds
RetCode: 0
Status:  OK 
PackageFile: beadarrayExampleData_1.29.0.tar.gz
PackageFileSize: 29.89 MiB

Command output

##############################################################################
##############################################################################
###
### Running command:
###
###   /home/biocbuild/bbs-3.13-bioc/R/bin/R CMD build --keep-empty-dirs --no-resave-data beadarrayExampleData
###
##############################################################################
##############################################################################


* checking for file ‘beadarrayExampleData/DESCRIPTION’ ... OK
* preparing ‘beadarrayExampleData’:
* checking DESCRIPTION meta-information ... OK
* installing the package to build vignettes
* creating vignettes ... OK
* checking for LF line-endings in source and make files and shell scripts
* checking for empty or unneeded directories
* looking to see if a ‘data/datalist’ file should be added
* building ‘beadarrayExampleData_1.29.0.tar.gz’