Back to Multiple platform build/check report for BioC 3.13 experimental data |
|
This page was generated on 2021-01-21 16:01:04 -0500 (Thu, 21 Jan 2021).
TO THE DEVELOPERS/MAINTAINERS OF THE ccdata PACKAGE: Please make sure to use the following settings in order to reproduce any error or warning you see on this page. |
Package 46/386 | Hostname | OS / Arch | INSTALL | BUILD | CHECK | ||||||
ccdata 1.17.0 Alex Pickering
| malbec2 | Linux (Ubuntu 20.04.1 LTS) / x86_64 | [ OK ] | OK | WARNINGS | ![]() | |||||
riesling1 | Windows Server 2019 Standard / x64 | OK | OK | WARNINGS |
Package: ccdata |
Version: 1.17.0 |
Command: /home/biocbuild/bbs-3.13-bioc/R/bin/R CMD INSTALL ccdata |
StartedAt: 2021-01-21 09:54:02 -0500 (Thu, 21 Jan 2021) |
EndedAt: 2021-01-21 09:54:17 -0500 (Thu, 21 Jan 2021) |
EllapsedTime: 14.7 seconds |
RetCode: 0 |
Status: OK |
############################################################################## ############################################################################## ### ### Running command: ### ### /home/biocbuild/bbs-3.13-bioc/R/bin/R CMD INSTALL ccdata ### ############################################################################## ############################################################################## * installing to library ‘/home/biocbuild/bbs-3.13-bioc/R/library’ * installing *source* package ‘ccdata’ ... ** using staged installation ** R ** data ** byte-compile and prepare package for lazy loading ** help *** installing help indices ** building package indices ** testing if installed package can be loaded from temporary location ** testing if installed package can be loaded from final location ** testing if installed package keeps a record of temporary installation path * DONE (ccdata)