Back to Multiple platform build/check report for BioC 3.13 experimental data
ABCDEFGHIJKLMNOPQRS[T]UVWXYZ

INSTALL report for tximportData on malbec2

This page was generated on 2021-01-21 16:01:23 -0500 (Thu, 21 Jan 2021).

TO THE DEVELOPERS/MAINTAINERS OF THE tximportData PACKAGE: Please make sure to use the following settings in order to reproduce any error or warning you see on this page.
Package 374/386HostnameOS / ArchINSTALLBUILDCHECK
tximportData 1.19.0
Michael Love
Snapshot Date: 2021-01-21 09:00:14 -0500 (Thu, 21 Jan 2021)
URL: https://git.bioconductor.org/packages/tximportData
Branch: master
Last Commit: 17aff3c
Last Changed Date: 2020-10-27 10:17:11 -0500 (Tue, 27 Oct 2020)
malbec2 Linux (Ubuntu 20.04.1 LTS) / x86_64 [ OK ] OK  OK UNNEEDED, same version exists in internal repository
riesling1 Windows Server 2019 Standard / x64  OK  OK  OK 

Summary

Package: tximportData
Version: 1.19.0
Command: /home/biocbuild/bbs-3.13-bioc/R/bin/R CMD INSTALL tximportData
StartedAt: 2021-01-21 09:48:04 -0500 (Thu, 21 Jan 2021)
EndedAt: 2021-01-21 09:49:29 -0500 (Thu, 21 Jan 2021)
EllapsedTime: 85.0 seconds
RetCode: 0
Status:  OK 

Command output

##############################################################################
##############################################################################
###
### Running command:
###
###   /home/biocbuild/bbs-3.13-bioc/R/bin/R CMD INSTALL tximportData
###
##############################################################################
##############################################################################


* installing to library ‘/home/biocbuild/bbs-3.13-bioc/R/library’
* installing *source* package ‘tximportData’ ...
** using staged installation
** inst
** help
No man pages found in package  ‘tximportData’ 
*** installing help indices
** building package indices
** installing vignettes
** testing if installed package can be loaded from temporary location
** testing if installed package can be loaded from final location
** testing if installed package keeps a record of temporary installation path
* DONE (tximportData)