Back to Multiple platform build/check report for BioC 3.13 experimental data
ABCDEFGHIJKLMNOPQRSTUVWX[Y]Z

BUILD report for yeastGSData on malbec2

This page was generated on 2021-01-14 15:59:06 -0500 (Thu, 14 Jan 2021).

TO THE DEVELOPERS/MAINTAINERS OF THE yeastGSData PACKAGE: Please make sure to use the following settings in order to reproduce any error or warning you see on this page.
Package 381/385HostnameOS / ArchINSTALLBUILDCHECK
yeastGSData 0.29.0
R. Gentleman
Snapshot Date: 2021-01-14 09:00:13 -0500 (Thu, 14 Jan 2021)
URL: https://git.bioconductor.org/packages/yeastGSData
Branch: master
Last Commit: 73a4849
Last Changed Date: 2020-10-27 09:48:41 -0500 (Tue, 27 Oct 2020)
malbec2 Linux (Ubuntu 20.04.1 LTS) / x86_64  OK [ OK ] WARNINGS UNNEEDED, same version exists in internal repository
riesling1 Windows Server 2019 Standard / x64  OK  OK  WARNINGS 

Summary

Package: yeastGSData
Version: 0.29.0
Command: /home/biocbuild/bbs-3.13-bioc/R/bin/R CMD build --keep-empty-dirs --no-resave-data yeastGSData
StartedAt: 2021-01-14 11:38:34 -0500 (Thu, 14 Jan 2021)
EndedAt: 2021-01-14 11:38:57 -0500 (Thu, 14 Jan 2021)
EllapsedTime: 23.0 seconds
RetCode: 0
Status:  OK 
PackageFile: yeastGSData_0.29.0.tar.gz
PackageFileSize: 8.124 MiB

Command output

##############################################################################
##############################################################################
###
### Running command:
###
###   /home/biocbuild/bbs-3.13-bioc/R/bin/R CMD build --keep-empty-dirs --no-resave-data yeastGSData
###
##############################################################################
##############################################################################


* checking for file ‘yeastGSData/DESCRIPTION’ ... OK
* preparing ‘yeastGSData’:
* checking DESCRIPTION meta-information ... OK
* checking for LF line-endings in source and make files and shell scripts
* checking for empty or unneeded directories
* looking to see if a ‘data/datalist’ file should be added
* building ‘yeastGSData_0.29.0.tar.gz’