Back to Multiple platform build/check report for BioC 3.13 experimental data
ABCDEFGHIJKLMNO[P]QRSTUVWXYZ

BUILD report for pumadata on malbec2

This page was generated on 2021-01-14 15:59:04 -0500 (Thu, 14 Jan 2021).

TO THE DEVELOPERS/MAINTAINERS OF THE pumadata PACKAGE: Please make sure to use the following settings in order to reproduce any error or warning you see on this page.
Package 279/385HostnameOS / ArchINSTALLBUILDCHECK
pumadata 2.27.0
Xuejun liu
Snapshot Date: 2021-01-14 09:00:13 -0500 (Thu, 14 Jan 2021)
URL: https://git.bioconductor.org/packages/pumadata
Branch: master
Last Commit: b7849ba
Last Changed Date: 2020-10-27 09:47:30 -0500 (Tue, 27 Oct 2020)
malbec2 Linux (Ubuntu 20.04.1 LTS) / x86_64  OK [ OK ] OK UNNEEDED, same version exists in internal repository
riesling1 Windows Server 2019 Standard / x64  OK  OK  OK 

Summary

Package: pumadata
Version: 2.27.0
Command: /home/biocbuild/bbs-3.13-bioc/R/bin/R CMD build --keep-empty-dirs --no-resave-data pumadata
StartedAt: 2021-01-14 11:17:56 -0500 (Thu, 14 Jan 2021)
EndedAt: 2021-01-14 11:18:39 -0500 (Thu, 14 Jan 2021)
EllapsedTime: 43.1 seconds
RetCode: 0
Status:  OK 
PackageFile: pumadata_2.27.0.tar.gz
PackageFileSize: 101.7 MiB

Command output

##############################################################################
##############################################################################
###
### Running command:
###
###   /home/biocbuild/bbs-3.13-bioc/R/bin/R CMD build --keep-empty-dirs --no-resave-data pumadata
###
##############################################################################
##############################################################################


* checking for file ‘pumadata/DESCRIPTION’ ... OK
* preparing ‘pumadata’:
* checking DESCRIPTION meta-information ... OK
* installing the package to build vignettes
* creating vignettes ... OK
* checking for LF line-endings in source and make files and shell scripts
* checking for empty or unneeded directories
* looking to see if a ‘data/datalist’ file should be added
* building ‘pumadata_2.27.0.tar.gz’