Back to Multiple platform build/check report for BioC 3.13 experimental data
ABCDEFGHIJKLMNOPQRS[T]UVWXYZ

CHECK report for TCGAMethylation450k on malbec2

This page was generated on 2021-01-21 16:01:22 -0500 (Thu, 21 Jan 2021).

TO THE DEVELOPERS/MAINTAINERS OF THE TCGAMethylation450k PACKAGE: Please make sure to use the following settings in order to reproduce any error or warning you see on this page.
Package 359/386HostnameOS / ArchINSTALLBUILDCHECK
TCGAMethylation450k 1.27.0
Sean Davis
Snapshot Date: 2021-01-21 09:00:14 -0500 (Thu, 21 Jan 2021)
URL: https://git.bioconductor.org/packages/TCGAMethylation450k
Branch: master
Last Commit: b8f352a
Last Changed Date: 2020-10-27 09:54:00 -0500 (Tue, 27 Oct 2020)
malbec2 Linux (Ubuntu 20.04.1 LTS) / x86_64  OK  OK [ OK ]UNNEEDED, same version exists in internal repository
riesling1 Windows Server 2019 Standard / x64  OK  OK  OK 

Summary

Package: TCGAMethylation450k
Version: 1.27.0
Command: /home/biocbuild/bbs-3.13-bioc/R/bin/R CMD check --install=check:TCGAMethylation450k.install-out.txt --library=/home/biocbuild/bbs-3.13-bioc/R/library --no-vignettes --timings TCGAMethylation450k_1.27.0.tar.gz
StartedAt: 2021-01-21 12:53:32 -0500 (Thu, 21 Jan 2021)
EndedAt: 2021-01-21 12:53:49 -0500 (Thu, 21 Jan 2021)
EllapsedTime: 16.7 seconds
RetCode: 0
Status:  OK 
CheckDir: TCGAMethylation450k.Rcheck
Warnings: 0

Command output

##############################################################################
##############################################################################
###
### Running command:
###
###   /home/biocbuild/bbs-3.13-bioc/R/bin/R CMD check --install=check:TCGAMethylation450k.install-out.txt --library=/home/biocbuild/bbs-3.13-bioc/R/library --no-vignettes --timings TCGAMethylation450k_1.27.0.tar.gz
###
##############################################################################
##############################################################################


* using log directory ‘/home/biocbuild/bbs-3.13-data-experiment/meat/TCGAMethylation450k.Rcheck’
* using R Under development (unstable) (2021-01-05 r79797)
* using platform: x86_64-pc-linux-gnu (64-bit)
* using session charset: UTF-8
* using option ‘--no-vignettes’
* checking for file ‘TCGAMethylation450k/DESCRIPTION’ ... OK
* checking extension type ... Package
* this is package ‘TCGAMethylation450k’ version ‘1.27.0’
* checking package namespace information ... OK
* checking package dependencies ... OK
* checking if this is a source package ... OK
* checking if there is a namespace ... OK
* checking for hidden files and directories ... NOTE
Found the following hidden files and directories:
  .git_fetch_output.txt
  .git_merge_output.txt
These were most likely included in error. See section ‘Package
structure’ in the ‘Writing R Extensions’ manual.
* checking for portable file names ... OK
* checking for sufficient/correct file permissions ... OK
* checking whether package ‘TCGAMethylation450k’ can be installed ... OK
* checking installed package size ... NOTE
  installed size is 154.5Mb
  sub-directories of 1Mb or more:
    extdata  154.4Mb
* checking package directory ... OK
* checking DESCRIPTION meta-information ... OK
* checking top-level files ... OK
* checking for left-over files ... OK
* checking index information ... OK
* checking package subdirectories ... OK
* checking whether the package can be loaded ... OK
* checking whether the package can be loaded with stated dependencies ... OK
* checking whether the package can be unloaded cleanly ... OK
* checking whether the namespace can be loaded with stated dependencies ... OK
* checking whether the namespace can be unloaded cleanly ... OK
* checking Rd files ... OK
* checking Rd metadata ... OK
* checking Rd cross-references ... OK
* checking for code/documentation mismatches ... OK
* checking Rd \usage sections ... OK
* checking Rd contents ... OK
* checking for unstated dependencies in examples ... OK
* checking examples ... NONE
* checking PDF version of manual ... OK
* DONE

Status: 2 NOTEs
See
  ‘/home/biocbuild/bbs-3.13-data-experiment/meat/TCGAMethylation450k.Rcheck/00check.log’
for details.



Installation output

TCGAMethylation450k.Rcheck/00install.out

##############################################################################
##############################################################################
###
### Running command:
###
###   /home/biocbuild/bbs-3.13-bioc/R/bin/R CMD INSTALL TCGAMethylation450k
###
##############################################################################
##############################################################################


* installing to library ‘/home/biocbuild/bbs-3.13-bioc/R/library’
* installing *source* package ‘TCGAMethylation450k’ ...
** using staged installation
** inst
** help
*** installing help indices
** building package indices
** testing if installed package can be loaded from temporary location
** testing if installed package can be loaded from final location
** testing if installed package keeps a record of temporary installation path
* DONE (TCGAMethylation450k)

Tests output


Example timings