Back to Multiple platform build/check report for BioC 3.13 experimental data
ABCDEFGHI[J]KLMNOPQRSTUVWXYZ

CHECK report for JASPAR2014 on malbec2

This page was generated on 2021-01-14 15:59:03 -0500 (Thu, 14 Jan 2021).

TO THE DEVELOPERS/MAINTAINERS OF THE JASPAR2014 PACKAGE: Please make sure to use the following settings in order to reproduce any error or warning you see on this page.
Package 188/385HostnameOS / ArchINSTALLBUILDCHECK
JASPAR2014 1.27.0
Ge Tan
Snapshot Date: 2021-01-14 09:00:13 -0500 (Thu, 14 Jan 2021)
URL: https://git.bioconductor.org/packages/JASPAR2014
Branch: master
Last Commit: 005f946
Last Changed Date: 2020-10-27 10:05:53 -0500 (Tue, 27 Oct 2020)
malbec2 Linux (Ubuntu 20.04.1 LTS) / x86_64  OK  OK [ OK ]UNNEEDED, same version exists in internal repository
riesling1 Windows Server 2019 Standard / x64  OK  OK  OK 

Summary

Package: JASPAR2014
Version: 1.27.0
Command: /home/biocbuild/bbs-3.13-bioc/R/bin/R CMD check --install=check:JASPAR2014.install-out.txt --library=/home/biocbuild/bbs-3.13-bioc/R/library --no-vignettes --timings JASPAR2014_1.27.0.tar.gz
StartedAt: 2021-01-14 12:19:16 -0500 (Thu, 14 Jan 2021)
EndedAt: 2021-01-14 12:20:36 -0500 (Thu, 14 Jan 2021)
EllapsedTime: 80.0 seconds
RetCode: 0
Status:  OK 
CheckDir: JASPAR2014.Rcheck
Warnings: 0

Command output

##############################################################################
##############################################################################
###
### Running command:
###
###   /home/biocbuild/bbs-3.13-bioc/R/bin/R CMD check --install=check:JASPAR2014.install-out.txt --library=/home/biocbuild/bbs-3.13-bioc/R/library --no-vignettes --timings JASPAR2014_1.27.0.tar.gz
###
##############################################################################
##############################################################################


* using log directory ‘/home/biocbuild/bbs-3.13-data-experiment/meat/JASPAR2014.Rcheck’
* using R Under development (unstable) (2021-01-05 r79797)
* using platform: x86_64-pc-linux-gnu (64-bit)
* using session charset: UTF-8
* using option ‘--no-vignettes’
* checking for file ‘JASPAR2014/DESCRIPTION’ ... OK
* checking extension type ... Package
* this is package ‘JASPAR2014’ version ‘1.27.0’
* checking package namespace information ... OK
* checking package dependencies ... OK
* checking if this is a source package ... OK
* checking if there is a namespace ... OK
* checking for hidden files and directories ... NOTE
Found the following hidden files and directories:
  .git_fetch_output.txt
  .git_merge_output.txt
These were most likely included in error. See section ‘Package
structure’ in the ‘Writing R Extensions’ manual.
* checking for portable file names ... OK
* checking for sufficient/correct file permissions ... OK
* checking whether package ‘JASPAR2014’ can be installed ... OK
* checking installed package size ... NOTE
  installed size is 70.0Mb
  sub-directories of 1Mb or more:
    data     49.5Mb
    extdata  20.3Mb
* checking package directory ... OK
* checking DESCRIPTION meta-information ... OK
* checking top-level files ... OK
* checking for left-over files ... OK
* checking index information ... OK
* checking package subdirectories ... OK
* checking R files for non-ASCII characters ... OK
* checking R files for syntax errors ... OK
* checking whether the package can be loaded ... OK
* checking whether the package can be loaded with stated dependencies ... OK
* checking whether the package can be unloaded cleanly ... OK
* checking whether the namespace can be loaded with stated dependencies ... OK
* checking whether the namespace can be unloaded cleanly ... OK
* checking dependencies in R code ... OK
* checking S3 generic/method consistency ... OK
* checking replacement functions ... OK
* checking foreign function calls ... OK
* checking R code for possible problems ... OK
* checking Rd files ... OK
* checking Rd metadata ... OK
* checking Rd cross-references ... OK
* checking for missing documentation entries ... OK
* checking for code/documentation mismatches ... OK
* checking Rd \usage sections ... OK
* checking Rd contents ... OK
* checking for unstated dependencies in examples ... OK
* checking contents of ‘data’ directory ... OK
* checking data for non-ASCII characters ... OK
* checking data for ASCII and uncompressed saves ... OK
* checking examples ... OK
* checking PDF version of manual ... OK
* DONE

Status: 2 NOTEs
See
  ‘/home/biocbuild/bbs-3.13-data-experiment/meat/JASPAR2014.Rcheck/00check.log’
for details.



Installation output

JASPAR2014.Rcheck/00install.out

##############################################################################
##############################################################################
###
### Running command:
###
###   /home/biocbuild/bbs-3.13-bioc/R/bin/R CMD INSTALL JASPAR2014
###
##############################################################################
##############################################################################


* installing to library ‘/home/biocbuild/bbs-3.13-bioc/R/library’
* installing *source* package ‘JASPAR2014’ ...
** using staged installation
** R
** data
*** moving datasets to lazyload DB
** inst
** byte-compile and prepare package for lazy loading
** help
*** installing help indices
** building package indices
** testing if installed package can be loaded from temporary location
** testing if installed package can be loaded from final location
** testing if installed package keeps a record of temporary installation path
* DONE (JASPAR2014)

Tests output


Example timings

JASPAR2014.Rcheck/JASPAR2014-Ex.timings

nameusersystemelapsed
JASPAR2014-class000
JASPAR2014-package000
JASPAR2014SitesSeqs000