Back to Multiple platform build/check report for BioC 3.13 experimental data
A[B]CDEFGHIJKLMNOPQRSTUVWXYZ

BUILD report for beta7 on malbec2

This page was generated on 2021-01-21 16:01:03 -0500 (Thu, 21 Jan 2021).

TO THE DEVELOPERS/MAINTAINERS OF THE beta7 PACKAGE: Please make sure to use the following settings in order to reproduce any error or warning you see on this page.
Package 26/386HostnameOS / ArchINSTALLBUILDCHECK
beta7 1.29.0
Jean Yang
Snapshot Date: 2021-01-21 09:00:14 -0500 (Thu, 21 Jan 2021)
URL: https://git.bioconductor.org/packages/beta7
Branch: master
Last Commit: 219d575
Last Changed Date: 2020-10-27 09:44:50 -0500 (Tue, 27 Oct 2020)
malbec2 Linux (Ubuntu 20.04.1 LTS) / x86_64  OK [ OK ] WARNINGS UNNEEDED, same version exists in internal repository
riesling1 Windows Server 2019 Standard / x64  OK  OK  WARNINGS 

Summary

Package: beta7
Version: 1.29.0
Command: /home/biocbuild/bbs-3.13-bioc/R/bin/R CMD build --keep-empty-dirs --no-resave-data beta7
StartedAt: 2021-01-21 10:19:14 -0500 (Thu, 21 Jan 2021)
EndedAt: 2021-01-21 10:19:24 -0500 (Thu, 21 Jan 2021)
EllapsedTime: 9.7 seconds
RetCode: 0
Status:  OK 
PackageFile: beta7_1.29.0.tar.gz
PackageFileSize: 15.18 MiB

Command output

##############################################################################
##############################################################################
###
### Running command:
###
###   /home/biocbuild/bbs-3.13-bioc/R/bin/R CMD build --keep-empty-dirs --no-resave-data beta7
###
##############################################################################
##############################################################################


* checking for file ‘beta7/DESCRIPTION’ ... OK
* preparing ‘beta7’:
* checking DESCRIPTION meta-information ... OK
* checking for LF line-endings in source and make files and shell scripts
* checking for empty or unneeded directories
* looking to see if a ‘data/datalist’ file should be added
* building ‘beta7_1.29.0.tar.gz’