Back to Multiple platform build/check report for BioC 3.13 experimental data
ABCDEFGHIJKLMNOPQR[S]TUVWXYZ

BUILD report for Single.mTEC.Transcriptomes on malbec2

This page was generated on 2021-01-21 16:01:21 -0500 (Thu, 21 Jan 2021).

TO THE DEVELOPERS/MAINTAINERS OF THE Single.mTEC.Transcriptomes PACKAGE: Please make sure to use the following settings in order to reproduce any error or warning you see on this page.
Package 335/386HostnameOS / ArchINSTALLBUILDCHECK
Single.mTEC.Transcriptomes 1.19.0
Alejandro Reyes
Snapshot Date: 2021-01-21 09:00:14 -0500 (Thu, 21 Jan 2021)
URL: https://git.bioconductor.org/packages/Single.mTEC.Transcriptomes
Branch: master
Last Commit: 90db919
Last Changed Date: 2020-10-27 10:16:10 -0500 (Tue, 27 Oct 2020)
malbec2 Linux (Ubuntu 20.04.1 LTS) / x86_64  OK [ OK ] OK UNNEEDED, same version exists in internal repository
riesling1 Windows Server 2019 Standard / x64  OK  OK  OK 

Summary

Package: Single.mTEC.Transcriptomes
Version: 1.19.0
Command: /home/biocbuild/bbs-3.13-bioc/R/bin/R CMD build --keep-empty-dirs --no-resave-data Single.mTEC.Transcriptomes
StartedAt: 2021-01-21 11:27:09 -0500 (Thu, 21 Jan 2021)
EndedAt: 2021-01-21 11:34:12 -0500 (Thu, 21 Jan 2021)
EllapsedTime: 423.0 seconds
RetCode: 0
Status:  OK 
PackageFile: Single.mTEC.Transcriptomes_1.19.0.tar.gz
PackageFileSize: 903.9 MiB

Command output

##############################################################################
##############################################################################
###
### Running command:
###
###   /home/biocbuild/bbs-3.13-bioc/R/bin/R CMD build --keep-empty-dirs --no-resave-data Single.mTEC.Transcriptomes
###
##############################################################################
##############################################################################


* checking for file ‘Single.mTEC.Transcriptomes/DESCRIPTION’ ... OK
* preparing ‘Single.mTEC.Transcriptomes’:
* checking DESCRIPTION meta-information ... OK
* installing the package to build vignettes
* creating vignettes ... OK
* checking for LF line-endings in source and make files and shell scripts
* checking for empty or unneeded directories
* looking to see if a ‘data/datalist’ file should be added
  NB: this package now depends on R (>= 3.5.0)
  WARNING: Added dependency on R >= 3.5.0 because serialized objects in
  serialize/load version 3 cannot be read in older versions of R.
  File(s) containing such objects:
    ‘Single.mTEC.Transcriptomes/data/coexpressionGroupList.RData’
* building ‘Single.mTEC.Transcriptomes_1.19.0.tar.gz’