Back to Multiple platform build/check report for BioC 3.13 experimental data
ABCDEFGHIJKLMNO[P]QRSTUVWXYZ

INSTALL report for PathNetData on malbec2

This page was generated on 2021-01-14 15:59:04 -0500 (Thu, 14 Jan 2021).

TO THE DEVELOPERS/MAINTAINERS OF THE PathNetData PACKAGE: Please make sure to use the following settings in order to reproduce any error or warning you see on this page.
Package 259/385HostnameOS / ArchINSTALLBUILDCHECK
PathNetData 1.27.1
Ludwig Geistlinger
Snapshot Date: 2021-01-14 09:00:13 -0500 (Thu, 14 Jan 2021)
URL: https://git.bioconductor.org/packages/PathNetData
Branch: master
Last Commit: c330b00
Last Changed Date: 2020-12-09 17:13:56 -0500 (Wed, 09 Dec 2020)
malbec2 Linux (Ubuntu 20.04.1 LTS) / x86_64 [ OK ] OK  OK UNNEEDED, same version exists in internal repository
riesling1 Windows Server 2019 Standard / x64  OK  OK  OK 

Summary

Package: PathNetData
Version: 1.27.1
Command: /home/biocbuild/bbs-3.13-bioc/R/bin/R CMD INSTALL PathNetData
StartedAt: 2021-01-14 09:59:13 -0500 (Thu, 14 Jan 2021)
EndedAt: 2021-01-14 09:59:22 -0500 (Thu, 14 Jan 2021)
EllapsedTime: 9.5 seconds
RetCode: 0
Status:  OK 

Command output

##############################################################################
##############################################################################
###
### Running command:
###
###   /home/biocbuild/bbs-3.13-bioc/R/bin/R CMD INSTALL PathNetData
###
##############################################################################
##############################################################################


* installing to library ‘/home/biocbuild/bbs-3.13-bioc/R/library’
* installing *source* package ‘PathNetData’ ...
** using staged installation
** data
** inst
** help
*** installing help indices
** building package indices
** testing if installed package can be loaded from temporary location
** testing if installed package can be loaded from final location
** testing if installed package keeps a record of temporary installation path
* DONE (PathNetData)