Back to Multiple platform build/check report for BioC 3.13 experimental data
ABCDEFGHIJKLMNOPQR[S]TUVWXYZ

BUILD report for signatureSearchData on malbec2

This page was generated on 2021-01-18 15:58:40 -0500 (Mon, 18 Jan 2021).

TO THE DEVELOPERS/MAINTAINERS OF THE signatureSearchData PACKAGE: Please make sure to use the following settings in order to reproduce any error or warning you see on this page.
Package 332/385HostnameOS / ArchINSTALLBUILDCHECK
signatureSearchData 1.5.0
Yuzhu Duan
Snapshot Date: 2021-01-18 09:00:15 -0500 (Mon, 18 Jan 2021)
URL: https://git.bioconductor.org/packages/signatureSearchData
Branch: master
Last Commit: 938e867
Last Changed Date: 2020-10-27 10:31:00 -0500 (Tue, 27 Oct 2020)
malbec2 Linux (Ubuntu 20.04.1 LTS) / x86_64  OK [ OK ] OK UNNEEDED, same version exists in internal repository
riesling1 Windows Server 2019 Standard / x64  OK  OK  OK 

Summary

Package: signatureSearchData
Version: 1.5.0
Command: /home/biocbuild/bbs-3.13-bioc/R/bin/R CMD build --keep-empty-dirs --no-resave-data signatureSearchData
StartedAt: 2021-01-18 11:26:35 -0500 (Mon, 18 Jan 2021)
EndedAt: 2021-01-18 11:27:51 -0500 (Mon, 18 Jan 2021)
EllapsedTime: 76.2 seconds
RetCode: 0
Status:  OK 
PackageFile: signatureSearchData_1.5.0.tar.gz
PackageFileSize: 644.9 KiB

Command output

##############################################################################
##############################################################################
###
### Running command:
###
###   /home/biocbuild/bbs-3.13-bioc/R/bin/R CMD build --keep-empty-dirs --no-resave-data signatureSearchData
###
##############################################################################
##############################################################################


* checking for file ‘signatureSearchData/DESCRIPTION’ ... OK
* preparing ‘signatureSearchData’:
* checking DESCRIPTION meta-information ... OK
* installing the package to build vignettes
* creating vignettes ... OK
* checking for LF line-endings in source and make files and shell scripts
* checking for empty or unneeded directories
* building ‘signatureSearchData_1.5.0.tar.gz’