Back to Multiple platform build/check report for BioC 3.13 experimental data |
|
This page was generated on 2021-01-14 15:58:57 -0500 (Thu, 14 Jan 2021).
TO THE DEVELOPERS/MAINTAINERS OF THE breakpointRdata PACKAGE: Please make sure to use the following settings in order to reproduce any error or warning you see on this page. |
Package 34/385 | Hostname | OS / Arch | INSTALL | BUILD | CHECK | ||||||
breakpointRdata 1.9.0 David Porubsky
| malbec2 | Linux (Ubuntu 20.04.1 LTS) / x86_64 | OK | [ OK ] | OK | ![]() | |||||
riesling1 | Windows Server 2019 Standard / x64 | OK | OK | OK |
Package: breakpointRdata |
Version: 1.9.0 |
Command: /home/biocbuild/bbs-3.13-bioc/R/bin/R CMD build --keep-empty-dirs --no-resave-data breakpointRdata |
StartedAt: 2021-01-14 10:18:48 -0500 (Thu, 14 Jan 2021) |
EndedAt: 2021-01-14 10:19:07 -0500 (Thu, 14 Jan 2021) |
EllapsedTime: 19.3 seconds |
RetCode: 0 |
Status: OK |
PackageFile: breakpointRdata_1.9.0.tar.gz |
PackageFileSize: 69.47 MiB |
############################################################################## ############################################################################## ### ### Running command: ### ### /home/biocbuild/bbs-3.13-bioc/R/bin/R CMD build --keep-empty-dirs --no-resave-data breakpointRdata ### ############################################################################## ############################################################################## * checking for file ‘breakpointRdata/DESCRIPTION’ ... OK * preparing ‘breakpointRdata’: * checking DESCRIPTION meta-information ... OK * installing the package to build vignettes * creating vignettes ... OK * checking for LF line-endings in source and make files and shell scripts * checking for empty or unneeded directories * building ‘breakpointRdata_1.9.0.tar.gz’