Back to Multiple platform build/check report for BioC 3.13 experimental data |
|
This page was generated on 2021-01-21 16:01:05 -0500 (Thu, 21 Jan 2021).
TO THE DEVELOPERS/MAINTAINERS OF THE cnvGSAdata PACKAGE: Please make sure to use the following settings in order to reproduce any error or warning you see on this page. |
Package 69/386 | Hostname | OS / Arch | INSTALL | BUILD | CHECK | ||||||
cnvGSAdata 1.27.0 Joseph Lugo
| malbec2 | Linux (Ubuntu 20.04.1 LTS) / x86_64 | [ OK ] | OK | WARNINGS | ![]() | |||||
riesling1 | Windows Server 2019 Standard / x64 | OK | OK | WARNINGS |
Package: cnvGSAdata |
Version: 1.27.0 |
Command: /home/biocbuild/bbs-3.13-bioc/R/bin/R CMD INSTALL cnvGSAdata |
StartedAt: 2021-01-21 09:57:39 -0500 (Thu, 21 Jan 2021) |
EndedAt: 2021-01-21 09:57:55 -0500 (Thu, 21 Jan 2021) |
EllapsedTime: 15.3 seconds |
RetCode: 0 |
Status: OK |
############################################################################## ############################################################################## ### ### Running command: ### ### /home/biocbuild/bbs-3.13-bioc/R/bin/R CMD INSTALL cnvGSAdata ### ############################################################################## ############################################################################## * installing to library ‘/home/biocbuild/bbs-3.13-bioc/R/library’ * installing *source* package ‘cnvGSAdata’ ... ** using staged installation ** data ** inst ** help *** installing help indices ** building package indices ** testing if installed package can be loaded from temporary location ** testing if installed package can be loaded from final location ** testing if installed package keeps a record of temporary installation path * DONE (cnvGSAdata)