Back to Build/check report for BioC 3.13 experimental data
ABCDEF[G]HIJKLMNOPQRSTUVWXYZ

This page was generated on 2021-09-16 16:00:01 -0400 (Thu, 16 Sep 2021).

All results for package GSE13015

To the developers/maintainers of the GSE13015 package:
Make sure to use the following settings in order to reproduce any error or warning you see on this page.

raw results

Package 153/406HostnameOS / ArchINSTALLBUILDCHECK
GSE13015 1.0.0  (landing page)
Darawan Rinchai
Snapshot Date: 2021-09-16 09:30:04 -0400 (Thu, 16 Sep 2021)
URL: https://git.bioconductor.org/packages/GSE13015
Branch: RELEASE_3_13
Last Commit: b494fdd
Last Changed Date: 2021-05-19 12:12:55 -0400 (Wed, 19 May 2021)
malbec2Linux (Ubuntu 20.04.2 LTS) / x86_64  OK    OK    OK  UNNEEDED, same version is already published