Back to Multiple platform build/check report for BioC 3.13 experimental data
ABCDEFGHIJKL[M]NOPQRSTUVWXYZ

INSTALL report for mouse4302barcodevecs on malbec2

This page was generated on 2021-01-21 16:01:15 -0500 (Thu, 21 Jan 2021).

TO THE DEVELOPERS/MAINTAINERS OF THE mouse4302barcodevecs PACKAGE: Please make sure to use the following settings in order to reproduce any error or warning you see on this page.
Package 233/386HostnameOS / ArchINSTALLBUILDCHECK
mouse4302barcodevecs 1.29.0
Matthew N. McCall
Snapshot Date: 2021-01-21 09:00:14 -0500 (Thu, 21 Jan 2021)
URL: https://git.bioconductor.org/packages/mouse4302barcodevecs
Branch: master
Last Commit: 58b1173
Last Changed Date: 2020-10-27 09:51:35 -0500 (Tue, 27 Oct 2020)
malbec2 Linux (Ubuntu 20.04.1 LTS) / x86_64 [ OK ] OK  OK UNNEEDED, same version exists in internal repository
riesling1 Windows Server 2019 Standard / x64  OK  OK  OK 

Summary

Package: mouse4302barcodevecs
Version: 1.29.0
Command: /home/biocbuild/bbs-3.13-bioc/R/bin/R CMD INSTALL mouse4302barcodevecs
StartedAt: 2021-01-21 09:53:49 -0500 (Thu, 21 Jan 2021)
EndedAt: 2021-01-21 09:53:52 -0500 (Thu, 21 Jan 2021)
EllapsedTime: 2.4 seconds
RetCode: 0
Status:  OK 

Command output

##############################################################################
##############################################################################
###
### Running command:
###
###   /home/biocbuild/bbs-3.13-bioc/R/bin/R CMD INSTALL mouse4302barcodevecs
###
##############################################################################
##############################################################################


* installing to library ‘/home/biocbuild/bbs-3.13-bioc/R/library’
* installing *source* package ‘mouse4302barcodevecs’ ...
** using staged installation
** data
** help
*** installing help indices
** building package indices
** testing if installed package can be loaded from temporary location
** testing if installed package can be loaded from final location
** testing if installed package keeps a record of temporary installation path
* DONE (mouse4302barcodevecs)