Back to Build/check report for BioC 3.13 experimental data
ABCDEFGHIJKLMNOPQRS[T]UVWXYZ

Build/check report for BioC 3.13 experimental data

All results for package tissueTreg

This page was generated on 2021-04-15 20:56:22 -0400 (Thu, 15 Apr 2021).

Package 376/393HostnameOS / ArchINSTALLBUILDCHECK
tissueTreg 1.11.0  (landing page)
Charles Imbusch
Snapshot Date: 2021-04-15 09:00:03 -0400 (Thu, 15 Apr 2021)
URL: https://git.bioconductor.org/packages/tissueTreg
Branch: master
Last Commit: ff6d376
Last Changed Date: 2020-10-27 10:26:30 -0400 (Tue, 27 Oct 2020)
malbec2Linux (Ubuntu 20.04.2 LTS) / x86_64  OK    ERROR  skipped