Back to Multiple platform build/check report for BioC 3.13 experimental data
A[B]CDEFGHIJKLMNOPQRSTUVWXYZ

INSTALL report for breastCancerMAINZ on malbec2

This page was generated on 2021-01-21 16:01:03 -0500 (Thu, 21 Jan 2021).

TO THE DEVELOPERS/MAINTAINERS OF THE breastCancerMAINZ PACKAGE: Please make sure to use the following settings in order to reproduce any error or warning you see on this page.
Package 35/386HostnameOS / ArchINSTALLBUILDCHECK
breastCancerMAINZ 1.29.0
Markus Schroeder , Benjamin Haibe-Kains
Snapshot Date: 2021-01-21 09:00:14 -0500 (Thu, 21 Jan 2021)
URL: https://git.bioconductor.org/packages/breastCancerMAINZ
Branch: master
Last Commit: c14abaf
Last Changed Date: 2020-10-27 09:52:40 -0500 (Tue, 27 Oct 2020)
malbec2 Linux (Ubuntu 20.04.1 LTS) / x86_64 [ OK ] OK  WARNINGS UNNEEDED, same version exists in internal repository
riesling1 Windows Server 2019 Standard / x64  OK  OK  WARNINGS 

Summary

Package: breastCancerMAINZ
Version: 1.29.0
Command: /home/biocbuild/bbs-3.13-bioc/R/bin/R CMD INSTALL breastCancerMAINZ
StartedAt: 2021-01-21 09:54:13 -0500 (Thu, 21 Jan 2021)
EndedAt: 2021-01-21 09:54:18 -0500 (Thu, 21 Jan 2021)
EllapsedTime: 4.5 seconds
RetCode: 0
Status:  OK 

Command output

##############################################################################
##############################################################################
###
### Running command:
###
###   /home/biocbuild/bbs-3.13-bioc/R/bin/R CMD INSTALL breastCancerMAINZ
###
##############################################################################
##############################################################################


* installing to library ‘/home/biocbuild/bbs-3.13-bioc/R/library’
* installing *source* package ‘breastCancerMAINZ’ ...
** using staged installation
** data
** help
*** installing help indices
** building package indices
** testing if installed package can be loaded from temporary location
** testing if installed package can be loaded from final location
** testing if installed package keeps a record of temporary installation path
* DONE (breastCancerMAINZ)