Back to Multiple platform build/check report for BioC 3.13 experimental data
ABCDEFG[H]IJKLMNOPQRSTUVWXYZ

BUILD report for HCAData on malbec2

This page was generated on 2021-01-14 15:59:02 -0500 (Thu, 14 Jan 2021).

TO THE DEVELOPERS/MAINTAINERS OF THE HCAData PACKAGE: Please make sure to use the following settings in order to reproduce any error or warning you see on this page.
Package 162/385HostnameOS / ArchINSTALLBUILDCHECK
HCAData 1.7.1
Federico Marini
Snapshot Date: 2021-01-14 09:00:13 -0500 (Thu, 14 Jan 2021)
URL: https://git.bioconductor.org/packages/HCAData
Branch: master
Last Commit: f1c01ea
Last Changed Date: 2021-01-10 19:02:46 -0500 (Sun, 10 Jan 2021)
malbec2 Linux (Ubuntu 20.04.1 LTS) / x86_64  OK [ OK ] OK UNNEEDED, same version exists in internal repository
riesling1 Windows Server 2019 Standard / x64  OK  OK  OK 

Summary

Package: HCAData
Version: 1.7.1
Command: /home/biocbuild/bbs-3.13-bioc/R/bin/R CMD build --keep-empty-dirs --no-resave-data HCAData
StartedAt: 2021-01-14 10:57:20 -0500 (Thu, 14 Jan 2021)
EndedAt: 2021-01-14 11:01:03 -0500 (Thu, 14 Jan 2021)
EllapsedTime: 223.2 seconds
RetCode: 0
Status:  OK 
PackageFile: HCAData_1.7.1.tar.gz
PackageFileSize: 1.457 MiB

Command output

##############################################################################
##############################################################################
###
### Running command:
###
###   /home/biocbuild/bbs-3.13-bioc/R/bin/R CMD build --keep-empty-dirs --no-resave-data HCAData
###
##############################################################################
##############################################################################


* checking for file ‘HCAData/DESCRIPTION’ ... OK
* preparing ‘HCAData’:
* checking DESCRIPTION meta-information ... OK
* installing the package to build vignettes
* creating vignettes ... OK
* checking for LF line-endings in source and make files and shell scripts
* checking for empty or unneeded directories
WARNING: directory ‘HCAData/build’ is empty
* building ‘HCAData_1.7.1.tar.gz’