Back to Multiple platform build/check report for BioC 3.13 experimental data
ABCDEFGHIJKL[M]NOPQRSTUVWXYZ

INSTALL report for minfiDataEPIC on malbec2

This page was generated on 2021-01-14 15:59:03 -0500 (Thu, 14 Jan 2021).

TO THE DEVELOPERS/MAINTAINERS OF THE minfiDataEPIC PACKAGE: Please make sure to use the following settings in order to reproduce any error or warning you see on this page.
Package 225/385HostnameOS / ArchINSTALLBUILDCHECK
minfiDataEPIC 1.17.0
Kasper Daniel Hansen
Snapshot Date: 2021-01-14 09:00:13 -0500 (Thu, 14 Jan 2021)
URL: https://git.bioconductor.org/packages/minfiDataEPIC
Branch: master
Last Commit: a24474c
Last Changed Date: 2020-10-27 10:20:06 -0500 (Tue, 27 Oct 2020)
malbec2 Linux (Ubuntu 20.04.1 LTS) / x86_64 [ OK ] OK  OK UNNEEDED, same version exists in internal repository
riesling1 Windows Server 2019 Standard / x64  OK  OK  OK 

Summary

Package: minfiDataEPIC
Version: 1.17.0
Command: /home/biocbuild/bbs-3.13-bioc/R/bin/R CMD INSTALL minfiDataEPIC
StartedAt: 2021-01-14 10:04:18 -0500 (Thu, 14 Jan 2021)
EndedAt: 2021-01-14 10:05:35 -0500 (Thu, 14 Jan 2021)
EllapsedTime: 77.3 seconds
RetCode: 0
Status:  OK 

Command output

##############################################################################
##############################################################################
###
### Running command:
###
###   /home/biocbuild/bbs-3.13-bioc/R/bin/R CMD INSTALL minfiDataEPIC
###
##############################################################################
##############################################################################


* installing to library ‘/home/biocbuild/bbs-3.13-bioc/R/library’
* installing *source* package ‘minfiDataEPIC’ ...
** using staged installation
** data
*** moving datasets to lazyload DB
** inst
** help
*** installing help indices
** building package indices
** testing if installed package can be loaded from temporary location
** testing if installed package can be loaded from final location
** testing if installed package keeps a record of temporary installation path
* DONE (minfiDataEPIC)