Back to Multiple platform build/check report for BioC 3.13 experimental data
ABCDEFGHIJKLMN[O]PQRSTUVWXYZ

BUILD report for OMICsPCAdata on malbec2

This page was generated on 2021-01-14 15:59:04 -0500 (Thu, 14 Jan 2021).

TO THE DEVELOPERS/MAINTAINERS OF THE OMICsPCAdata PACKAGE: Please make sure to use the following settings in order to reproduce any error or warning you see on this page.
Package 252/385HostnameOS / ArchINSTALLBUILDCHECK
OMICsPCAdata 1.9.0
Subhadeep Das
Snapshot Date: 2021-01-14 09:00:13 -0500 (Thu, 14 Jan 2021)
URL: https://git.bioconductor.org/packages/OMICsPCAdata
Branch: master
Last Commit: e1aa246
Last Changed Date: 2020-10-27 10:27:55 -0500 (Tue, 27 Oct 2020)
malbec2 Linux (Ubuntu 20.04.1 LTS) / x86_64  OK [ OK ] OK UNNEEDED, same version exists in internal repository
riesling1 Windows Server 2019 Standard / x64  OK  OK  OK 

Summary

Package: OMICsPCAdata
Version: 1.9.0
Command: /home/biocbuild/bbs-3.13-bioc/R/bin/R CMD build --keep-empty-dirs --no-resave-data OMICsPCAdata
StartedAt: 2021-01-14 11:13:51 -0500 (Thu, 14 Jan 2021)
EndedAt: 2021-01-14 11:14:56 -0500 (Thu, 14 Jan 2021)
EllapsedTime: 64.6 seconds
RetCode: 0
Status:  OK 
PackageFile: OMICsPCAdata_1.9.0.tar.gz
PackageFileSize: 42.44 MiB

Command output

##############################################################################
##############################################################################
###
### Running command:
###
###   /home/biocbuild/bbs-3.13-bioc/R/bin/R CMD build --keep-empty-dirs --no-resave-data OMICsPCAdata
###
##############################################################################
##############################################################################


* checking for file ‘OMICsPCAdata/DESCRIPTION’ ... OK
* preparing ‘OMICsPCAdata’:
* checking DESCRIPTION meta-information ... OK
* installing the package to build vignettes
* creating vignettes ... OK
* checking for LF line-endings in source and make files and shell scripts
* checking for empty or unneeded directories
* building ‘OMICsPCAdata_1.9.0.tar.gz’