Back to Multiple platform build/check report for BioC 3.13 experimental data
ABCDEFGHIJKL[M]NOPQRSTUVWXYZ

BUILD report for msdata on malbec2

This page was generated on 2021-01-18 15:58:38 -0500 (Mon, 18 Jan 2021).

TO THE DEVELOPERS/MAINTAINERS OF THE msdata PACKAGE: Please make sure to use the following settings in order to reproduce any error or warning you see on this page.
Package 236/385HostnameOS / ArchINSTALLBUILDCHECK
msdata 0.31.1
Steffen Neumann , Laurent Gatto
Snapshot Date: 2021-01-18 09:00:15 -0500 (Mon, 18 Jan 2021)
URL: https://git.bioconductor.org/packages/msdata
Branch: master
Last Commit: d1cc52d
Last Changed Date: 2020-12-29 12:36:57 -0500 (Tue, 29 Dec 2020)
malbec2 Linux (Ubuntu 20.04.1 LTS) / x86_64  OK [ OK ] OK UNNEEDED, same version exists in internal repository
riesling1 Windows Server 2019 Standard / x64  OK  OK  OK 

Summary

Package: msdata
Version: 0.31.1
Command: /home/biocbuild/bbs-3.13-bioc/R/bin/R CMD build --keep-empty-dirs --no-resave-data msdata
StartedAt: 2021-01-18 11:07:41 -0500 (Mon, 18 Jan 2021)
EndedAt: 2021-01-18 11:08:40 -0500 (Mon, 18 Jan 2021)
EllapsedTime: 58.9 seconds
RetCode: 0
Status:  OK 
PackageFile: msdata_0.31.1.tar.gz
PackageFileSize: 425.5 MiB

Command output

##############################################################################
##############################################################################
###
### Running command:
###
###   /home/biocbuild/bbs-3.13-bioc/R/bin/R CMD build --keep-empty-dirs --no-resave-data msdata
###
##############################################################################
##############################################################################


* checking for file ‘msdata/DESCRIPTION’ ... OK
* preparing ‘msdata’:
* checking DESCRIPTION meta-information ... OK
* checking for LF line-endings in source and make files and shell scripts
* checking for empty or unneeded directories
* looking to see if a ‘data/datalist’ file should be added
* building ‘msdata_0.31.1.tar.gz’