Back to Multiple platform build/check report for BioC 3.13 experimental data
AB[C]DEFGHIJKLMNOPQRSTUVWXYZ

INSTALL report for colonCA on malbec2

This page was generated on 2021-01-11 15:59:20 -0500 (Mon, 11 Jan 2021).

TO THE DEVELOPERS/MAINTAINERS OF THE colonCA PACKAGE: Please make sure to use the following settings in order to reproduce any error or warning you see on this page.
Package 71/385HostnameOS / ArchINSTALLBUILDCHECK
colonCA 1.33.0
W Sylvia Merk
Snapshot Date: 2021-01-11 09:00:09 -0500 (Mon, 11 Jan 2021)
URL: https://git.bioconductor.org/packages/colonCA
Branch: master
Last Commit: 26a5e93
Last Changed Date: 2020-10-27 09:45:02 -0500 (Tue, 27 Oct 2020)
malbec2 Linux (Ubuntu 20.04.1 LTS) / x86_64 [ OK ] OK  WARNINGS UNNEEDED, same version exists in internal repository
riesling1 Windows Server 2019 Standard / x64  OK  OK  WARNINGS 

Summary

Package: colonCA
Version: 1.33.0
Command: /home/biocbuild/bbs-3.13-bioc/R/bin/R CMD INSTALL colonCA
StartedAt: 2021-01-11 09:54:55 -0500 (Mon, 11 Jan 2021)
EndedAt: 2021-01-11 09:54:58 -0500 (Mon, 11 Jan 2021)
EllapsedTime: 3.3 seconds
RetCode: 0
Status:  OK 

Command output

##############################################################################
##############################################################################
###
### Running command:
###
###   /home/biocbuild/bbs-3.13-bioc/R/bin/R CMD INSTALL colonCA
###
##############################################################################
##############################################################################


* installing to library ‘/home/biocbuild/bbs-3.13-bioc/R/library’
* installing *source* package ‘colonCA’ ...
** using staged installation
** data
** help
*** installing help indices
** building package indices
** testing if installed package can be loaded from temporary location
** testing if installed package can be loaded from final location
** testing if installed package keeps a record of temporary installation path
* DONE (colonCA)