Back to Multiple platform build/check report for BioC 3.13 experimental data
ABCDEFGHIJKLMNO[P]QRSTUVWXYZ

BUILD report for pasilla on malbec2

This page was generated on 2021-01-21 16:01:16 -0500 (Thu, 21 Jan 2021).

TO THE DEVELOPERS/MAINTAINERS OF THE pasilla PACKAGE: Please make sure to use the following settings in order to reproduce any error or warning you see on this page.
Package 256/386HostnameOS / ArchINSTALLBUILDCHECK
pasilla 1.19.1
Alejandro Reyes
Snapshot Date: 2021-01-21 09:00:14 -0500 (Thu, 21 Jan 2021)
URL: https://git.bioconductor.org/packages/pasilla
Branch: master
Last Commit: d3b4885
Last Changed Date: 2020-12-23 13:08:31 -0500 (Wed, 23 Dec 2020)
malbec2 Linux (Ubuntu 20.04.1 LTS) / x86_64  OK [ OK ] WARNINGS UNNEEDED, same version exists in internal repository
riesling1 Windows Server 2019 Standard / x64  OK  OK  WARNINGS 

Summary

Package: pasilla
Version: 1.19.1
Command: /home/biocbuild/bbs-3.13-bioc/R/bin/R CMD build --keep-empty-dirs --no-resave-data pasilla
StartedAt: 2021-01-21 11:11:57 -0500 (Thu, 21 Jan 2021)
EndedAt: 2021-01-21 11:12:27 -0500 (Thu, 21 Jan 2021)
EllapsedTime: 29.9 seconds
RetCode: 0
Status:  OK 
PackageFile: pasilla_1.19.1.tar.gz
PackageFileSize: 3.158 MiB

Command output

##############################################################################
##############################################################################
###
### Running command:
###
###   /home/biocbuild/bbs-3.13-bioc/R/bin/R CMD build --keep-empty-dirs --no-resave-data pasilla
###
##############################################################################
##############################################################################


* checking for file ‘pasilla/DESCRIPTION’ ... OK
* preparing ‘pasilla’:
* checking DESCRIPTION meta-information ... OK
* installing the package to build vignettes
* creating vignettes ... OK
* checking for LF line-endings in source and make files and shell scripts
* checking for empty or unneeded directories
* looking to see if a ‘data/datalist’ file should be added
* building ‘pasilla_1.19.1.tar.gz’