Back to Multiple platform build/check report for BioC 3.13 experimental data
ABCDEFGHIJKLMNOPQ[R]STUVWXYZ

BUILD report for rRDPData on malbec2

This page was generated on 2021-01-11 15:59:26 -0500 (Mon, 11 Jan 2021).

TO THE DEVELOPERS/MAINTAINERS OF THE rRDPData PACKAGE: Please make sure to use the following settings in order to reproduce any error or warning you see on this page.
Package 309/385HostnameOS / ArchINSTALLBUILDCHECK
rRDPData 1.11.0
Michael Hahsler
Snapshot Date: 2021-01-11 09:00:09 -0500 (Mon, 11 Jan 2021)
URL: https://git.bioconductor.org/packages/rRDPData
Branch: master
Last Commit: 94d066b
Last Changed Date: 2020-10-27 10:10:24 -0500 (Tue, 27 Oct 2020)
malbec2 Linux (Ubuntu 20.04.1 LTS) / x86_64  OK [ OK ] OK UNNEEDED, same version exists in internal repository
riesling1 Windows Server 2019 Standard / x64  OK  OK  OK 

Summary

Package: rRDPData
Version: 1.11.0
Command: /home/biocbuild/bbs-3.13-bioc/R/bin/R CMD build --keep-empty-dirs --no-resave-data rRDPData
StartedAt: 2021-01-11 11:19:41 -0500 (Mon, 11 Jan 2021)
EndedAt: 2021-01-11 11:20:01 -0500 (Mon, 11 Jan 2021)
EllapsedTime: 20.6 seconds
RetCode: 0
Status:  OK 
PackageFile: rRDPData_1.11.0.tar.gz
PackageFileSize: 17.27 MiB

Command output

##############################################################################
##############################################################################
###
### Running command:
###
###   /home/biocbuild/bbs-3.13-bioc/R/bin/R CMD build --keep-empty-dirs --no-resave-data rRDPData
###
##############################################################################
##############################################################################


* checking for file ‘rRDPData/DESCRIPTION’ ... OK
* preparing ‘rRDPData’:
* checking DESCRIPTION meta-information ... OK
* checking for LF line-endings in source and make files and shell scripts
* checking for empty or unneeded directories
* building ‘rRDPData_1.11.0.tar.gz’