Back to Multiple platform build/check report for BioC 3.13 experimental data
ABCDEFGHIJKLMN[O]PQRSTUVWXYZ

INSTALL report for oct4 on malbec2

This page was generated on 2021-01-11 15:59:24 -0500 (Mon, 11 Jan 2021).

TO THE DEVELOPERS/MAINTAINERS OF THE oct4 PACKAGE: Please make sure to use the following settings in order to reproduce any error or warning you see on this page.
Package 251/385HostnameOS / ArchINSTALLBUILDCHECK
oct4 1.7.0
Michael Love
Snapshot Date: 2021-01-11 09:00:09 -0500 (Mon, 11 Jan 2021)
URL: https://git.bioconductor.org/packages/oct4
Branch: master
Last Commit: b82ea22
Last Changed Date: 2020-10-27 10:29:31 -0500 (Tue, 27 Oct 2020)
malbec2 Linux (Ubuntu 20.04.1 LTS) / x86_64 [ OK ] OK  OK UNNEEDED, same version exists in internal repository
riesling1 Windows Server 2019 Standard / x64  OK  OK  OK 

Summary

Package: oct4
Version: 1.7.0
Command: /home/biocbuild/bbs-3.13-bioc/R/bin/R CMD INSTALL oct4
StartedAt: 2021-01-11 09:52:43 -0500 (Mon, 11 Jan 2021)
EndedAt: 2021-01-11 09:53:01 -0500 (Mon, 11 Jan 2021)
EllapsedTime: 18.2 seconds
RetCode: 0
Status:  OK 

Command output

##############################################################################
##############################################################################
###
### Running command:
###
###   /home/biocbuild/bbs-3.13-bioc/R/bin/R CMD INSTALL oct4
###
##############################################################################
##############################################################################


* installing to library ‘/home/biocbuild/bbs-3.13-bioc/R/library’
* installing *source* package ‘oct4’ ...
** using staged installation
** inst
** help
*** installing help indices
** building package indices
** installing vignettes
** testing if installed package can be loaded from temporary location
** testing if installed package can be loaded from final location
** testing if installed package keeps a record of temporary installation path
* DONE (oct4)