Back to Build/check report for BioC 3.13 experimental data
A[B]CDEFGHIJKLMNOPQRSTUVWXYZ

Build/check report for BioC 3.13 experimental data

All results for package bodymapRat

This page was generated on 2021-04-15 20:56:21 -0400 (Thu, 15 Apr 2021).

Package 32/393HostnameOS / ArchINSTALLBUILDCHECK
bodymapRat 1.7.0  (landing page)
Stephanie Hicks
Snapshot Date: 2021-04-15 09:00:03 -0400 (Thu, 15 Apr 2021)
URL: https://git.bioconductor.org/packages/bodymapRat
Branch: master
Last Commit: d3a4487
Last Changed Date: 2020-10-27 10:29:45 -0400 (Tue, 27 Oct 2020)
malbec2Linux (Ubuntu 20.04.2 LTS) / x86_64  OK    ERROR  skipped