Back to Multiple platform build/check report for BioC 3.13 experimental data
ABCDEFGHIJKL[M]NOPQRSTUVWXYZ

BUILD report for maqcExpression4plex on malbec2

This page was generated on 2021-01-11 15:59:23 -0500 (Mon, 11 Jan 2021).

TO THE DEVELOPERS/MAINTAINERS OF THE maqcExpression4plex PACKAGE: Please make sure to use the following settings in order to reproduce any error or warning you see on this page.
Package 208/385HostnameOS / ArchINSTALLBUILDCHECK
maqcExpression4plex 1.35.0
Benilton Carvalho
Snapshot Date: 2021-01-11 09:00:09 -0500 (Mon, 11 Jan 2021)
URL: https://git.bioconductor.org/packages/maqcExpression4plex
Branch: master
Last Commit: 1c4f151
Last Changed Date: 2020-10-27 09:47:58 -0500 (Tue, 27 Oct 2020)
malbec2 Linux (Ubuntu 20.04.1 LTS) / x86_64  OK [ OK ] OK UNNEEDED, same version exists in internal repository
riesling1 Windows Server 2019 Standard / x64  OK  OK  OK 

Summary

Package: maqcExpression4plex
Version: 1.35.0
Command: /home/biocbuild/bbs-3.13-bioc/R/bin/R CMD build --keep-empty-dirs --no-resave-data maqcExpression4plex
StartedAt: 2021-01-11 11:05:28 -0500 (Mon, 11 Jan 2021)
EndedAt: 2021-01-11 11:05:33 -0500 (Mon, 11 Jan 2021)
EllapsedTime: 5.5 seconds
RetCode: 0
Status:  OK 
PackageFile: maqcExpression4plex_1.35.0.tar.gz
PackageFileSize: 6.579 MiB

Command output

##############################################################################
##############################################################################
###
### Running command:
###
###   /home/biocbuild/bbs-3.13-bioc/R/bin/R CMD build --keep-empty-dirs --no-resave-data maqcExpression4plex
###
##############################################################################
##############################################################################


* checking for file ‘maqcExpression4plex/DESCRIPTION’ ... OK
* preparing ‘maqcExpression4plex’:
* checking DESCRIPTION meta-information ... OK
* checking for LF line-endings in source and make files and shell scripts
* checking for empty or unneeded directories
* building ‘maqcExpression4plex_1.35.0.tar.gz’